Workbook

Sheet 입력
A1: 교육 영상 시연용 가상 자료
A2: 대현테크(가명) 평택 2공장 · 단위: 만 원 · 1대 · 예시
A3: 항목 | B3: 공통값
A4: 연간 사용시간 | B4: 4000
A5: 전력비 배수 | B5: 1
A6: 매각 반영 비율 | B6: 1
A7: 기간(년) | B7: 5
A8: 기준 | B8: 부가세 별도 · 만 원 · 1대
A9: 미포함 | B9: B 출장비 단가·횟수 미확인 / 중단 손실 미산정

Sheet 기초
A1: 교육 영상 시연용 가상 자료
A2: 대현테크(가명) 평택 2공장 · 단위: 만 원 · 1대 · 예시
A3: 안 | B3: 장비값 | C3: 운송설치 | D3: 연 전력비 | E3: 연 소모품 | F3: 정기정비 5년 | G3: 큰 부품 5년 | H3: 처리비 | I3: 매각 예상액 | J3: 근거
A4: A | B4: 8000 | C4: 500 | D4: 1200 | E4: 500 | F4: ='연도별'!E4+'연도별'!E5+'연도별'!E6+'연도별'!E7+'연도별'!E8 -> 2400 | G4: ='연도별'!F4+'연도별'!F5+'연도별'!F6+'연도별'!F7+'연도별'!F8 -> 800 | H4: 300 | I4: 1000 | J4: 견적·운영비·보증이미지·추가회신 / 예시
A5: B | B5: 10000 | C5: 500 | D5: 800 | E5: 350 | F5: ='연도별'!E9+'연도별'!E10+'연도별'!E11+'연도별'!E12+'연도별'!E13 -> 1200 | G5: ='연도별'!F9+'연도별'!F10+'연도별'!F11+'연도별'!F12+'연도별'!F13 -> 500 | H5: 300 | I5: 1500 | J5: 견적·운영비·보증이미지·추가회신 / 예시
A6: C | B6: 9000 | C6: 700 | D6: 1000 | E6: 400 | F6: ='연도별'!E14+'연도별'!E15+'연도별'!E16+'연도별'!E17+'연도별'!E18 -> 2000 | G6: ='연도별'!F14+'연도별'!F15+'연도별'!F16+'연도별'!F17+'연도별'!F18 -> 600 | H6: 300 | I6: 1200 | J6: 견적·운영비·보증이미지·추가회신 / 예시

Sheet 연도별
A1: 교육 영상 시연용 가상 자료
A2: 대현테크(가명) 평택 2공장 · 단위: 만 원 · 1대 · 예시
A3: 안 | B3: 연차 | C3: 전력비 | D3: 소모품 | E3: 정기정비 | F3: 큰 부품 | G3: 처리비 | H3: 매각대금(빼기) | I3: 해당 연도 순비용
A4: A | B4: 1 | C4: ='기초'!D4*'입력'!B4/4000*'입력'!B5 -> 1200 | D4: ='기초'!E4*'입력'!B4/4000 -> 500 | E4: 0 | F4: 0 | G4: 0 | H4: 0 | I4: =C4+D4+E4+F4+G4-H4 -> 1700
A5: A | B5: 2 | C5: ='기초'!D4*'입력'!B4/4000*'입력'!B5 -> 1200 | D5: ='기초'!E4*'입력'!B4/4000 -> 500 | E5: 600 | F5: 0 | G5: 0 | H5: 0 | I5: =C5+D5+E5+F5+G5-H5 -> 2300
A6: A | B6: 3 | C6: ='기초'!D4*'입력'!B4/4000*'입력'!B5 -> 1200 | D6: ='기초'!E4*'입력'!B4/4000 -> 500 | E6: 600 | F6: 800 | G6: 0 | H6: 0 | I6: =C6+D6+E6+F6+G6-H6 -> 3100
A7: A | B7: 4 | C7: ='기초'!D4*'입력'!B4/4000*'입력'!B5 -> 1200 | D7: ='기초'!E4*'입력'!B4/4000 -> 500 | E7: 600 | F7: 0 | G7: 0 | H7: 0 | I7: =C7+D7+E7+F7+G7-H7 -> 2300
A8: A | B8: 5 | C8: ='기초'!D4*'입력'!B4/4000*'입력'!B5 -> 1200 | D8: ='기초'!E4*'입력'!B4/4000 -> 500 | E8: 600 | F8: 0 | G8: ='기초'!H4 -> 300 | H8: ='기초'!I4*'입력'!B6 -> 1000 | I8: =C8+D8+E8+F8+G8-H8 -> 1600
A9: B | B9: 1 | C9: ='기초'!D5*'입력'!B4/4000*'입력'!B5 -> 800 | D9: ='기초'!E5*'입력'!B4/4000 -> 350 | E9: 0 | F9: 0 | G9: 0 | H9: 0 | I9: =C9+D9+E9+F9+G9-H9 -> 1150
A10: B | B10: 2 | C10: ='기초'!D5*'입력'!B4/4000*'입력'!B5 -> 800 | D10: ='기초'!E5*'입력'!B4/4000 -> 350 | E10: 0 | F10: 0 | G10: 0 | H10: 0 | I10: =C10+D10+E10+F10+G10-H10 -> 1150
A11: B | B11: 3 | C11: ='기초'!D5*'입력'!B4/4000*'입력'!B5 -> 800 | D11: ='기초'!E5*'입력'!B4/4000 -> 350 | E11: 400 | F11: 0 | G11: 0 | H11: 0 | I11: =C11+D11+E11+F11+G11-H11 -> 1550
A12: B | B12: 4 | C12: ='기초'!D5*'입력'!B4/4000*'입력'!B5 -> 800 | D12: ='기초'!E5*'입력'!B4/4000 -> 350 | E12: 400 | F12: 500 | G12: 0 | H12: 0 | I12: =C12+D12+E12+F12+G12-H12 -> 2050
A13: B | B13: 5 | C13: ='기초'!D5*'입력'!B4/4000*'입력'!B5 -> 800 | D13: ='기초'!E5*'입력'!B4/4000 -> 350 | E13: 400 | F13: 0 | G13: ='기초'!H5 -> 300 | H13: ='기초'!I5*'입력'!B6 -> 1500 | I13: =C13+D13+E13+F13+G13-H13 -> 350
A14: C | B14: 1 | C14: ='기초'!D6*'입력'!B4/4000*'입력'!B5 -> 1000 | D14: ='기초'!E6*'입력'!B4/4000 -> 400 | E14: 0 | F14: 0 | G14: 0 | H14: 0 | I14: =C14+D14+E14+F14+G14-H14 -> 1400
A15: C | B15: 2 | C15: ='기초'!D6*'입력'!B4/4000*'입력'!B5 -> 1000 | D15: ='기초'!E6*'입력'!B4/4000 -> 400 | E15: 500 | F15: 0 | G15: 0 | H15: 0 | I15: =C15+D15+E15+F15+G15-H15 -> 1900
A16: C | B16: 3 | C16: ='기초'!D6*'입력'!B4/4000*'입력'!B5 -> 1000 | D16: ='기초'!E6*'입력'!B4/4000 -> 400 | E16: 500 | F16: 600 | G16: 0 | H16: 0 | I16: =C16+D16+E16+F16+G16-H16 -> 2500
A17: C | B17: 4 | C17: ='기초'!D6*'입력'!B4/4000*'입력'!B5 -> 1000 | D17: ='기초'!E6*'입력'!B4/4000 -> 400 | E17: 500 | F17: 0 | G17: 0 | H17: 0 | I17: =C17+D17+E17+F17+G17-H17 -> 1900
A18: C | B18: 5 | C18: ='기초'!D6*'입력'!B4/4000*'입력'!B5 -> 1000 | D18: ='기초'!E6*'입력'!B4/4000 -> 400 | E18: 500 | F18: 0 | G18: ='기초'!H6 -> 300 | H18: ='기초'!I6*'입력'!B6 -> 1200 | I18: =C18+D18+E18+F18+G18-H18 -> 1000

Sheet 합계
A1: 교육 영상 시연용 가상 자료
A2: 대현테크(가명) 평택 2공장 · 단위: 만 원 · 1대 · 예시
A3: 안 | B3: 장비값 | C3: 운송설치 | D3: 전력비 5년 | E3: 소모품 5년 | F3: 정기정비 5년 | G3: 큰 부품 5년 | H3: 처리비 | I3: 매각대금(빼기) | J3: 총비용 | K3: 비고
A4: A | B4: ='기초'!B4 -> 8000 | C4: ='기초'!C4 -> 500 | D4: ='기초'!D4*5*'입력'!B4/4000*'입력'!B5 -> 6000 | E4: ='기초'!E4*5*'입력'!B4/4000 -> 2500 | F4: ='기초'!F4 -> 2400 | G4: ='기초'!G4 -> 800 | H4: ='기초'!H4 -> 300 | I4: ='기초'!I4*'입력'!B6 -> 1000 | J4: =B4+C4+D4+E4+F4+G4+H4-I4 -> 19500 | K4: B 출장비 미포함・전 안 중단 손실 미산정
A5: B | B5: ='기초'!B5 -> 10000 | C5: ='기초'!C5 -> 500 | D5: ='기초'!D5*5*'입력'!B4/4000*'입력'!B5 -> 4000 | E5: ='기초'!E5*5*'입력'!B4/4000 -> 1750 | F5: ='기초'!F5 -> 1200 | G5: ='기초'!G5 -> 500 | H5: ='기초'!H5 -> 300 | I5: ='기초'!I5*'입력'!B6 -> 1500 | J5: =B5+C5+D5+E5+F5+G5+H5-I5 -> 16750 | K5: B 출장비 미포함・전 안 중단 손실 미산정
A6: C | B6: ='기초'!B6 -> 9000 | C6: ='기초'!C6 -> 700 | D6: ='기초'!D6*5*'입력'!B4/4000*'입력'!B5 -> 5000 | E6: ='기초'!E6*5*'입력'!B4/4000 -> 2000 | F6: ='기초'!F6 -> 2000 | G6: ='기초'!G6 -> 600 | H6: ='기초'!H6 -> 300 | I6: ='기초'!I6*'입력'!B6 -> 1200 | J6: =B6+C6+D6+E6+F6+G6+H6-I6 -> 18400 | K6: B 출장비 미포함・전 안 중단 손실 미산정

Sheet 조건변경
A1: 교육 영상 시연용 가상 자료
A2: 대현테크(가명) 평택 2공장 · 단위: 만 원 · 1대 · 예시
A3: 조건(각각 따로 변경) | B3: A | C3: B | D3: C | E3: A-B 차이 | F3: 판단
A4: 기준 | B4: ='기초'!B4+'기초'!C4+'기초'!D4*5*4000/4000*1+'기초'!E4*5*4000/4000+'기초'!F4+'기초'!G4+'기초'!H4-'기초'!I4*1 -> 19500 | C4: ='기초'!B5+'기초'!C5+'기초'!D5*5*4000/4000*1+'기초'!E5*5*4000/4000+'기초'!F5+'기초'!G5+'기초'!H5-'기초'!I5*1 -> 16750 | D4: ='기초'!B6+'기초'!C6+'기초'!D6*5*4000/4000*1+'기초'!E6*5*4000/4000+'기초'!F6+'기초'!G6+'기초'!H6-'기초'!I6*1 -> 18400 | E4: =B4-C4 -> 2750 | F4: B가 낮음, 미확인 비용 확인 전 조건부
A5: 전력비만 20% 증가 | B5: ='기초'!B4+'기초'!C4+'기초'!D4*5*4000/4000*1.2+'기초'!E4*5*4000/4000+'기초'!F4+'기초'!G4+'기초'!H4-'기초'!I4*1 -> 20700 | C5: ='기초'!B5+'기초'!C5+'기초'!D5*5*4000/4000*1.2+'기초'!E5*5*4000/4000+'기초'!F5+'기초'!G5+'기초'!H5-'기초'!I5*1 -> 17550 | D5: ='기초'!B6+'기초'!C6+'기초'!D6*5*4000/4000*1.2+'기초'!E6*5*4000/4000+'기초'!F6+'기초'!G6+'기초'!H6-'기초'!I6*1 -> 19400 | E5: =B5-C5 -> 3150 | F5: B가 낮음, 미확인 비용 확인 전 조건부
A6: 연 사용시간만 2,000 | B6: ='기초'!B4+'기초'!C4+'기초'!D4*5*2000/4000*1+'기초'!E4*5*2000/4000+'기초'!F4+'기초'!G4+'기초'!H4-'기초'!I4*1 -> 15250 | C6: ='기초'!B5+'기초'!C5+'기초'!D5*5*2000/4000*1+'기초'!E5*5*2000/4000+'기초'!F5+'기초'!G5+'기초'!H5-'기초'!I5*1 -> 13875 | D6: ='기초'!B6+'기초'!C6+'기초'!D6*5*2000/4000*1+'기초'!E6*5*2000/4000+'기초'!F6+'기초'!G6+'기초'!H6-'기초'!I6*1 -> 14900 | E6: =B6-C6 -> 1375 | F6: B가 낮음, 미확인 비용 확인 전 조건부
A7: 매각대금만 0 | B7: ='기초'!B4+'기초'!C4+'기초'!D4*5*4000/4000*1+'기초'!E4*5*4000/4000+'기초'!F4+'기초'!G4+'기초'!H4-'기초'!I4*0 -> 20500 | C7: ='기초'!B5+'기초'!C5+'기초'!D5*5*4000/4000*1+'기초'!E5*5*4000/4000+'기초'!F5+'기초'!G5+'기초'!H5-'기초'!I5*0 -> 18250 | D7: ='기초'!B6+'기초'!C6+'기초'!D6*5*4000/4000*1+'기초'!E6*5*4000/4000+'기초'!F6+'기초'!G6+'기초'!H6-'기초'!I6*0 -> 19600 | E7: =B7-C7 -> 2250 | F7: B가 낮음, 미확인 비용 확인 전 조건부

Sheet 누적
A1: 교육 영상 시연용 가상 자료
A2: 대현테크(가명) 평택 2공장 · 단위: 만 원 · 1대 · 예시
A3: 시점 | B3: A | C3: B | D3: C | E3: 비고
A4: 도입 시점 | B4: ='기초'!B4+'기초'!C4 -> 8500 | C4: ='기초'!B5+'기초'!C5 -> 10500 | D4: ='기초'!B6+'기초'!C6 -> 9700 | E4: 5년차에 처리비·매각대금 포함
A5: 1년차 말 | B5: ='기초'!B4+'기초'!C4+'연도별'!I4 -> 10200 | C5: ='기초'!B5+'기초'!C5+'연도별'!I9 -> 11650 | D5: ='기초'!B6+'기초'!C6+'연도별'!I14 -> 11100 | E5: 5년차에 처리비·매각대금 포함
A6: 2년차 말 | B6: ='기초'!B4+'기초'!C4+'연도별'!I4+'연도별'!I5 -> 12500 | C6: ='기초'!B5+'기초'!C5+'연도별'!I9+'연도별'!I10 -> 12800 | D6: ='기초'!B6+'기초'!C6+'연도별'!I14+'연도별'!I15 -> 13000 | E6: 5년차에 처리비·매각대금 포함
A7: 3년차 말 | B7: ='기초'!B4+'기초'!C4+'연도별'!I4+'연도별'!I5+'연도별'!I6 -> 15600 | C7: ='기초'!B5+'기초'!C5+'연도별'!I9+'연도별'!I10+'연도별'!I11 -> 14350 | D7: ='기초'!B6+'기초'!C6+'연도별'!I14+'연도별'!I15+'연도별'!I16 -> 15500 | E7: 5년차에 처리비·매각대금 포함
A8: 4년차 말 | B8: ='기초'!B4+'기초'!C4+'연도별'!I4+'연도별'!I5+'연도별'!I6+'연도별'!I7 -> 17900 | C8: ='기초'!B5+'기초'!C5+'연도별'!I9+'연도별'!I10+'연도별'!I11+'연도별'!I12 -> 16400 | D8: ='기초'!B6+'기초'!C6+'연도별'!I14+'연도별'!I15+'연도별'!I16+'연도별'!I17 -> 17400 | E8: 5년차에 처리비·매각대금 포함
A9: 5년차 말 | B9: ='기초'!B4+'기초'!C4+'연도별'!I4+'연도별'!I5+'연도별'!I6+'연도별'!I7+'연도별'!I8 -> 19500 | C9: ='기초'!B5+'기초'!C5+'연도별'!I9+'연도별'!I10+'연도별'!I11+'연도별'!I12+'연도별'!I13 -> 16750 | D9: ='기초'!B6+'기초'!C6+'연도별'!I14+'연도별'!I15+'연도별'!I16+'연도별'!I17+'연도별'!I18 -> 18400 | E9: 5년차에 처리비·매각대금 포함
