Workbook

Sheet 안내
A1: 교육 영상 시연용 가상 자료
A2: 한결물류 · 평택센터 · 가명 / 금액은 부가세 제외 / 2026년 비교용 예시
A3: 항목 | B3: 내용
A4: 용도 | B4: 검수용 완성 예시. 먼저 직접 만든 뒤 비교
A5: 계산 | B5: 원 단위. 엑셀로 열 때 다시 계산
A6: 주의 | B6: 교육용 가정. 실제 전망과 실제 승인 아님
A7: 기준 결과 | B7: 기준168백만원 / 불리48백만원 / 유리228백만원
A8: 입력 변경 시험 | B8: 불리 환율 1,300으로 바꾸면 연이익96백만원. 확인 후 복원

Sheet 매출정리
A1: 교육 영상 시연용 가상 자료
A2: 한결물류 · 평택센터 · 가명 / 금액은 부가세 제외 / 2026년 비교용 예시
A3: 거래번호 | B3: 월 | C3: 고객 | D3: 서비스 | E3: 매출액(원) | F3: 통화 | G3: 센터 | H3: 대상구분
A4: R202601-001 | B4: 2026-01 | C4: 고객01 | D4: 배송 | E4: 3000000 | F4: KRW | G4: 평택센터 | H4: 운임조정 대상
A5: R202601-002 | B5: 2026-01 | C5: 고객02 | D5: 배송 | E5: 3000000 | F5: KRW | G5: 평택센터 | H5: 운임조정 대상
A6: R202601-003 | B6: 2026-01 | C6: 고객03 | D6: 배송 | E6: 3000000 | F6: KRW | G6: 평택센터 | H6: 운임조정 대상
A7: R202601-004 | B7: 2026-01 | C7: 고객04 | D7: 배송 | E7: 3000000 | F7: KRW | G7: 평택센터 | H7: 운임조정 대상
A8: R202601-005 | B8: 2026-01 | C8: 고객05 | D8: 배송 | E8: 3000000 | F8: KRW | G8: 평택센터 | H8: 운임조정 대상
A9: R202601-006 | B9: 2026-01 | C9: 고객06 | D9: 배송 | E9: 3000000 | F9: KRW | G9: 평택센터 | H9: 운임조정 대상
A10: R202601-007 | B10: 2026-01 | C10: 고객07 | D10: 배송 | E10: 3000000 | F10: KRW | G10: 평택센터 | H10: 운임조정 대상
A11: R202601-008 | B11: 2026-01 | C11: 고객08 | D11: 배송 | E11: 3000000 | F11: KRW | G11: 평택센터 | H11: 운임조정 대상
A12: R202601-009 | B12: 2026-01 | C12: 고객09 | D12: 배송 | E12: 3000000 | F12: KRW | G12: 평택센터 | H12: 운임조정 대상
A13: R202601-010 | B13: 2026-01 | C13: 고객10 | D13: 배송 | E13: 3000000 | F13: KRW | G13: 평택센터 | H13: 운임조정 대상
A14: R202601-011 | B14: 2026-01 | C14: 고객11 | D14: 배송 | E14: 3000000 | F14: KRW | G14: 평택센터 | H14: 운임조정 대상
A15: R202601-012 | B15: 2026-01 | C15: 고객12 | D15: 배송 | E15: 3000000 | F15: KRW | G15: 평택센터 | H15: 운임조정 대상
... A363: R202612-030 | B363: 2026-12 | C363: 고객30 | D363: 보관 | E363: 4000000 | F363: KRW | G363: 평택센터 | H363: 운임조정 제외

Sheet 비용정리
A1: 교육 영상 시연용 가상 자료
A2: 한결물류 · 평택센터 · 가명 / 금액은 부가세 제외 / 2026년 비교용 예시
A3: 거래번호 | B3: 월 | C3: 비용구분 | D3: 통화금액 | E3: 통화 | F3: 기준원화(원) | G3: 센터
A4: C202601-001 | B4: 2026-01 | C4: 해외운송 | D4: 2000 | E4: USD | F4: 2600000 | G4: 평택센터
A5: C202601-002 | B5: 2026-01 | C5: 해외운송 | D5: 2000 | E5: USD | F5: 2600000 | G5: 평택센터
A6: C202601-003 | B6: 2026-01 | C6: 해외운송 | D6: 2000 | E6: USD | F6: 2600000 | G6: 평택센터
A7: C202601-004 | B7: 2026-01 | C7: 해외운송 | D7: 2000 | E7: USD | F7: 2600000 | G7: 평택센터
A8: C202601-005 | B8: 2026-01 | C8: 해외운송 | D8: 2000 | E8: USD | F8: 2600000 | G8: 평택센터
A9: C202601-006 | B9: 2026-01 | C9: 해외운송 | D9: 2000 | E9: USD | F9: 2600000 | G9: 평택센터
A10: C202601-007 | B10: 2026-01 | C10: 해외운송 | D10: 2000 | E10: USD | F10: 2600000 | G10: 평택센터
A11: C202601-008 | B11: 2026-01 | C11: 해외운송 | D11: 2000 | E11: USD | F11: 2600000 | G11: 평택센터
A12: C202601-009 | B12: 2026-01 | C12: 해외운송 | D12: 2000 | E12: USD | F12: 2600000 | G12: 평택센터
A13: C202601-010 | B13: 2026-01 | C13: 해외운송 | D13: 2000 | E13: USD | F13: 2600000 | G13: 평택센터
A14: C202601-011 | B14: 2026-01 | C14: 연료 | D14: 2000000 | E14: KRW | F14: 2000000 | G14: 평택센터
A15: C202601-012 | B15: 2026-01 | C15: 연료 | D15: 2000000 | E15: KRW | F15: 2000000 | G15: 평택센터
... A483: C202612-040 | B483: 2026-12 | C483: 기타운영비 | D483: 2000000 | E483: KRW | F483: 2000000 | G483: 평택센터

Sheet 정리기록
A1: 교육 영상 시연용 가상 자료
A2: 한결물류 · 평택센터 · 가명 / 금액은 부가세 제외 / 2026년 비교용 예시
A3: 자료 | B3: 거래번호 | C3: 처리 | D3: 근거
A4: 매출 | B4: R202601-001 | C4: 표기·확인값 정리 | D4: 거래조건 문서 2쪽
A5: 매출 | B5: R202601-012 | C5: 표기·확인값 정리 | D5: 거래조건 문서 2쪽
A6: 매출 | B6: R202601-013 | C6: 표기·확인값 정리 | D6: 거래조건 문서 2쪽
A7: 매출 | B7: R202601-018 | C7: 표기·확인값 정리 | D7: 거래조건 문서 2쪽
A8: 매출 | B8: R202601-023 | C8: 표기·확인값 정리 | D8: 거래조건 문서 2쪽
A9: 매출 | B9: R202602-004 | C9: 표기·확인값 정리 | D9: 거래조건 문서 2쪽
A10: 매출 | B10: R202602-005 | C10: 표기·확인값 정리 | D10: 거래조건 문서 2쪽
A11: 매출 | B11: R202602-015 | C11: 표기·확인값 정리 | D11: 거래조건 문서 2쪽
A12: 매출 | B12: R202602-022 | C12: 표기·확인값 정리 | D12: 거래조건 문서 2쪽
A13: 매출 | B13: R202602-026 | C13: 표기·확인값 정리 | D13: 거래조건 문서 2쪽
A14: 매출 | B14: R202603-007 | C14: 표기·확인값 정리 | D14: 거래조건 문서 2쪽
... A249: 비용 | B249: C202612-001 | C249: 복사 중복 제외 | D249: 같은 거래번호·내용 대조

Sheet 월집계
A1: 교육 영상 시연용 가상 자료
A2: 한결물류 · 평택센터 · 가명 / 금액은 부가세 제외 / 2026년 비교용 예시
A3: 월 | B3: 매출(원) | C3: 해외운송(달러) | D3: 국내원자재(원) | E3: 기타운영비(원) | F3: 운임조정대상(원)
A4: 2026-01 | B4: =SUMIF(매출정리!B4:B363,A4,매출정리!E4:E363) -> 100000000 | C4: =SUMIFS(비용정리!D4:D483,비용정리!B4:B483,A4,비용정리!E4:E483,"USD") -> 20000 | D4: =SUMIFS(비용정리!D4:D483,비용정리!B4:B483,A4,비용정리!C4:C483,"연료")+SUMIFS(비용정리!D4:D483,비용정리!B4:B483,A4,비용정리!C4:C483,"포장재") -> 30000000 | E4: =SUMIFS(비용정리!D4:D483,비용정리!B4:B483,A4,비용정리!C4:C483,"기타운영비") -> 30000000 | F4: =SUMIFS(매출정리!E4:E363,매출정리!B4:B363,A4,매출정리!H4:H363,"운임조정 대상") -> 60000000
A5: 2026-02 | B5: =SUMIF(매출정리!B4:B363,A5,매출정리!E4:E363) -> 100000000 | C5: =SUMIFS(비용정리!D4:D483,비용정리!B4:B483,A5,비용정리!E4:E483,"USD") -> 20000 | D5: =SUMIFS(비용정리!D4:D483,비용정리!B4:B483,A5,비용정리!C4:C483,"연료")+SUMIFS(비용정리!D4:D483,비용정리!B4:B483,A5,비용정리!C4:C483,"포장재") -> 30000000 | E5: =SUMIFS(비용정리!D4:D483,비용정리!B4:B483,A5,비용정리!C4:C483,"기타운영비") -> 30000000 | F5: =SUMIFS(매출정리!E4:E363,매출정리!B4:B363,A5,매출정리!H4:H363,"운임조정 대상") -> 60000000
A6: 2026-03 | B6: =SUMIF(매출정리!B4:B363,A6,매출정리!E4:E363) -> 100000000 | C6: =SUMIFS(비용정리!D4:D483,비용정리!B4:B483,A6,비용정리!E4:E483,"USD") -> 20000 | D6: =SUMIFS(비용정리!D4:D483,비용정리!B4:B483,A6,비용정리!C4:C483,"연료")+SUMIFS(비용정리!D4:D483,비용정리!B4:B483,A6,비용정리!C4:C483,"포장재") -> 30000000 | E6: =SUMIFS(비용정리!D4:D483,비용정리!B4:B483,A6,비용정리!C4:C483,"기타운영비") -> 30000000 | F6: =SUMIFS(매출정리!E4:E363,매출정리!B4:B363,A6,매출정리!H4:H363,"운임조정 대상") -> 60000000
A7: 2026-04 | B7: =SUMIF(매출정리!B4:B363,A7,매출정리!E4:E363) -> 100000000 | C7: =SUMIFS(비용정리!D4:D483,비용정리!B4:B483,A7,비용정리!E4:E483,"USD") -> 20000 | D7: =SUMIFS(비용정리!D4:D483,비용정리!B4:B483,A7,비용정리!C4:C483,"연료")+SUMIFS(비용정리!D4:D483,비용정리!B4:B483,A7,비용정리!C4:C483,"포장재") -> 30000000 | E7: =SUMIFS(비용정리!D4:D483,비용정리!B4:B483,A7,비용정리!C4:C483,"기타운영비") -> 30000000 | F7: =SUMIFS(매출정리!E4:E363,매출정리!B4:B363,A7,매출정리!H4:H363,"운임조정 대상") -> 60000000
A8: 2026-05 | B8: =SUMIF(매출정리!B4:B363,A8,매출정리!E4:E363) -> 100000000 | C8: =SUMIFS(비용정리!D4:D483,비용정리!B4:B483,A8,비용정리!E4:E483,"USD") -> 20000 | D8: =SUMIFS(비용정리!D4:D483,비용정리!B4:B483,A8,비용정리!C4:C483,"연료")+SUMIFS(비용정리!D4:D483,비용정리!B4:B483,A8,비용정리!C4:C483,"포장재") -> 30000000 | E8: =SUMIFS(비용정리!D4:D483,비용정리!B4:B483,A8,비용정리!C4:C483,"기타운영비") -> 30000000 | F8: =SUMIFS(매출정리!E4:E363,매출정리!B4:B363,A8,매출정리!H4:H363,"운임조정 대상") -> 60000000
A9: 2026-06 | B9: =SUMIF(매출정리!B4:B363,A9,매출정리!E4:E363) -> 100000000 | C9: =SUMIFS(비용정리!D4:D483,비용정리!B4:B483,A9,비용정리!E4:E483,"USD") -> 20000 | D9: =SUMIFS(비용정리!D4:D483,비용정리!B4:B483,A9,비용정리!C4:C483,"연료")+SUMIFS(비용정리!D4:D483,비용정리!B4:B483,A9,비용정리!C4:C483,"포장재") -> 30000000 | E9: =SUMIFS(비용정리!D4:D483,비용정리!B4:B483,A9,비용정리!C4:C483,"기타운영비") -> 30000000 | F9: =SUMIFS(매출정리!E4:E363,매출정리!B4:B363,A9,매출정리!H4:H363,"운임조정 대상") -> 60000000
A10: 2026-07 | B10: =SUMIF(매출정리!B4:B363,A10,매출정리!E4:E363) -> 100000000 | C10: =SUMIFS(비용정리!D4:D483,비용정리!B4:B483,A10,비용정리!E4:E483,"USD") -> 20000 | D10: =SUMIFS(비용정리!D4:D483,비용정리!B4:B483,A10,비용정리!C4:C483,"연료")+SUMIFS(비용정리!D4:D483,비용정리!B4:B483,A10,비용정리!C4:C483,"포장재") -> 30000000 | E10: =SUMIFS(비용정리!D4:D483,비용정리!B4:B483,A10,비용정리!C4:C483,"기타운영비") -> 30000000 | F10: =SUMIFS(매출정리!E4:E363,매출정리!B4:B363,A10,매출정리!H4:H363,"운임조정 대상") -> 60000000
A11: 2026-08 | B11: =SUMIF(매출정리!B4:B363,A11,매출정리!E4:E363) -> 100000000 | C11: =SUMIFS(비용정리!D4:D483,비용정리!B4:B483,A11,비용정리!E4:E483,"USD") -> 20000 | D11: =SUMIFS(비용정리!D4:D483,비용정리!B4:B483,A11,비용정리!C4:C483,"연료")+SUMIFS(비용정리!D4:D483,비용정리!B4:B483,A11,비용정리!C4:C483,"포장재") -> 30000000 | E11: =SUMIFS(비용정리!D4:D483,비용정리!B4:B483,A11,비용정리!C4:C483,"기타운영비") -> 30000000 | F11: =SUMIFS(매출정리!E4:E363,매출정리!B4:B363,A11,매출정리!H4:H363,"운임조정 대상") -> 60000000
A12: 2026-09 | B12: =SUMIF(매출정리!B4:B363,A12,매출정리!E4:E363) -> 100000000 | C12: =SUMIFS(비용정리!D4:D483,비용정리!B4:B483,A12,비용정리!E4:E483,"USD") -> 20000 | D12: =SUMIFS(비용정리!D4:D483,비용정리!B4:B483,A12,비용정리!C4:C483,"연료")+SUMIFS(비용정리!D4:D483,비용정리!B4:B483,A12,비용정리!C4:C483,"포장재") -> 30000000 | E12: =SUMIFS(비용정리!D4:D483,비용정리!B4:B483,A12,비용정리!C4:C483,"기타운영비") -> 30000000 | F12: =SUMIFS(매출정리!E4:E363,매출정리!B4:B363,A12,매출정리!H4:H363,"운임조정 대상") -> 60000000
A13: 2026-10 | B13: =SUMIF(매출정리!B4:B363,A13,매출정리!E4:E363) -> 100000000 | C13: =SUMIFS(비용정리!D4:D483,비용정리!B4:B483,A13,비용정리!E4:E483,"USD") -> 20000 | D13: =SUMIFS(비용정리!D4:D483,비용정리!B4:B483,A13,비용정리!C4:C483,"연료")+SUMIFS(비용정리!D4:D483,비용정리!B4:B483,A13,비용정리!C4:C483,"포장재") -> 30000000 | E13: =SUMIFS(비용정리!D4:D483,비용정리!B4:B483,A13,비용정리!C4:C483,"기타운영비") -> 30000000 | F13: =SUMIFS(매출정리!E4:E363,매출정리!B4:B363,A13,매출정리!H4:H363,"운임조정 대상") -> 60000000
A14: 2026-11 | B14: =SUMIF(매출정리!B4:B363,A14,매출정리!E4:E363) -> 100000000 | C14: =SUMIFS(비용정리!D4:D483,비용정리!B4:B483,A14,비용정리!E4:E483,"USD") -> 20000 | D14: =SUMIFS(비용정리!D4:D483,비용정리!B4:B483,A14,비용정리!C4:C483,"연료")+SUMIFS(비용정리!D4:D483,비용정리!B4:B483,A14,비용정리!C4:C483,"포장재") -> 30000000 | E14: =SUMIFS(비용정리!D4:D483,비용정리!B4:B483,A14,비용정리!C4:C483,"기타운영비") -> 30000000 | F14: =SUMIFS(매출정리!E4:E363,매출정리!B4:B363,A14,매출정리!H4:H363,"운임조정 대상") -> 60000000
A15: 2026-12 | B15: =SUMIF(매출정리!B4:B363,A15,매출정리!E4:E363) -> 100000000 | C15: =SUMIFS(비용정리!D4:D483,비용정리!B4:B483,A15,비용정리!E4:E483,"USD") -> 20000 | D15: =SUMIFS(비용정리!D4:D483,비용정리!B4:B483,A15,비용정리!C4:C483,"연료")+SUMIFS(비용정리!D4:D483,비용정리!B4:B483,A15,비용정리!C4:C483,"포장재") -> 30000000 | E15: =SUMIFS(비용정리!D4:D483,비용정리!B4:B483,A15,비용정리!C4:C483,"기타운영비") -> 30000000 | F15: =SUMIFS(매출정리!E4:E363,매출정리!B4:B363,A15,매출정리!H4:H363,"운임조정 대상") -> 60000000

Sheet 가정
A1: 교육 영상 시연용 가상 자료
A2: 한결물류 · 평택센터 · 가명 / 금액은 부가세 제외 / 2026년 비교용 예시
A3: 시나리오 | B3: 환율(원/달러) | C3: 국내원자재지수 | D3: 적용 시작월 | E3: 적용 개월
A4: 기준 | B4: 1300 | C4: 100 | D4: 1 | E4: 12
A5: 불리 | B5: 1500 | C5: 120 | D5: 1 | E5: 12
A6: 유리 | B6: 1200 | C6: 90 | D6: 1 | E6: 12

Sheet 월손익
A1: 교육 영상 시연용 가상 자료
A2: 한결물류 · 평택센터 · 가명 / 금액은 부가세 제외 / 2026년 비교용 예시
A3: 시나리오 | B3: 월 | C3: 매출(원) | D3: 해외운송(원) | E3: 국내원자재(원) | F3: 기타운영비(원) | G3: 영업이익(원)
A4: 기준 | B4: =월집계!A4 -> 2026-01 | C4: =월집계!B4 -> 100000000 | D4: =월집계!C4*가정!B4 -> 26000000 | E4: =월집계!D4*가정!C4/100 -> 30000000 | F4: =월집계!E4 -> 30000000 | G4: =C4-D4-E4-F4 -> 14000000
A5: 기준 | B5: =월집계!A5 -> 2026-02 | C5: =월집계!B5 -> 100000000 | D5: =월집계!C5*가정!B4 -> 26000000 | E5: =월집계!D5*가정!C4/100 -> 30000000 | F5: =월집계!E5 -> 30000000 | G5: =C5-D5-E5-F5 -> 14000000
A6: 기준 | B6: =월집계!A6 -> 2026-03 | C6: =월집계!B6 -> 100000000 | D6: =월집계!C6*가정!B4 -> 26000000 | E6: =월집계!D6*가정!C4/100 -> 30000000 | F6: =월집계!E6 -> 30000000 | G6: =C6-D6-E6-F6 -> 14000000
A7: 기준 | B7: =월집계!A7 -> 2026-04 | C7: =월집계!B7 -> 100000000 | D7: =월집계!C7*가정!B4 -> 26000000 | E7: =월집계!D7*가정!C4/100 -> 30000000 | F7: =월집계!E7 -> 30000000 | G7: =C7-D7-E7-F7 -> 14000000
A8: 기준 | B8: =월집계!A8 -> 2026-05 | C8: =월집계!B8 -> 100000000 | D8: =월집계!C8*가정!B4 -> 26000000 | E8: =월집계!D8*가정!C4/100 -> 30000000 | F8: =월집계!E8 -> 30000000 | G8: =C8-D8-E8-F8 -> 14000000
A9: 기준 | B9: =월집계!A9 -> 2026-06 | C9: =월집계!B9 -> 100000000 | D9: =월집계!C9*가정!B4 -> 26000000 | E9: =월집계!D9*가정!C4/100 -> 30000000 | F9: =월집계!E9 -> 30000000 | G9: =C9-D9-E9-F9 -> 14000000
A10: 기준 | B10: =월집계!A10 -> 2026-07 | C10: =월집계!B10 -> 100000000 | D10: =월집계!C10*가정!B4 -> 26000000 | E10: =월집계!D10*가정!C4/100 -> 30000000 | F10: =월집계!E10 -> 30000000 | G10: =C10-D10-E10-F10 -> 14000000
A11: 기준 | B11: =월집계!A11 -> 2026-08 | C11: =월집계!B11 -> 100000000 | D11: =월집계!C11*가정!B4 -> 26000000 | E11: =월집계!D11*가정!C4/100 -> 30000000 | F11: =월집계!E11 -> 30000000 | G11: =C11-D11-E11-F11 -> 14000000
A12: 기준 | B12: =월집계!A12 -> 2026-09 | C12: =월집계!B12 -> 100000000 | D12: =월집계!C12*가정!B4 -> 26000000 | E12: =월집계!D12*가정!C4/100 -> 30000000 | F12: =월집계!E12 -> 30000000 | G12: =C12-D12-E12-F12 -> 14000000
A13: 기준 | B13: =월집계!A13 -> 2026-10 | C13: =월집계!B13 -> 100000000 | D13: =월집계!C13*가정!B4 -> 26000000 | E13: =월집계!D13*가정!C4/100 -> 30000000 | F13: =월집계!E13 -> 30000000 | G13: =C13-D13-E13-F13 -> 14000000
A14: 기준 | B14: =월집계!A14 -> 2026-11 | C14: =월집계!B14 -> 100000000 | D14: =월집계!C14*가정!B4 -> 26000000 | E14: =월집계!D14*가정!C4/100 -> 30000000 | F14: =월집계!E14 -> 30000000 | G14: =C14-D14-E14-F14 -> 14000000
A15: 기준 | B15: =월집계!A15 -> 2026-12 | C15: =월집계!B15 -> 100000000 | D15: =월집계!C15*가정!B4 -> 26000000 | E15: =월집계!D15*가정!C4/100 -> 30000000 | F15: =월집계!E15 -> 30000000 | G15: =C15-D15-E15-F15 -> 14000000
A16: 불리 | B16: =월집계!A4 -> 2026-01 | C16: =월집계!B4 -> 100000000 | D16: =월집계!C4*가정!B5 -> 30000000 | E16: =월집계!D4*가정!C5/100 -> 36000000 | F16: =월집계!E4 -> 30000000 | G16: =C16-D16-E16-F16 -> 4000000
A17: 불리 | B17: =월집계!A5 -> 2026-02 | C17: =월집계!B5 -> 100000000 | D17: =월집계!C5*가정!B5 -> 30000000 | E17: =월집계!D5*가정!C5/100 -> 36000000 | F17: =월집계!E5 -> 30000000 | G17: =C17-D17-E17-F17 -> 4000000
A18: 불리 | B18: =월집계!A6 -> 2026-03 | C18: =월집계!B6 -> 100000000 | D18: =월집계!C6*가정!B5 -> 30000000 | E18: =월집계!D6*가정!C5/100 -> 36000000 | F18: =월집계!E6 -> 30000000 | G18: =C18-D18-E18-F18 -> 4000000
A19: 불리 | B19: =월집계!A7 -> 2026-04 | C19: =월집계!B7 -> 100000000 | D19: =월집계!C7*가정!B5 -> 30000000 | E19: =월집계!D7*가정!C5/100 -> 36000000 | F19: =월집계!E7 -> 30000000 | G19: =C19-D19-E19-F19 -> 4000000
A20: 불리 | B20: =월집계!A8 -> 2026-05 | C20: =월집계!B8 -> 100000000 | D20: =월집계!C8*가정!B5 -> 30000000 | E20: =월집계!D8*가정!C5/100 -> 36000000 | F20: =월집계!E8 -> 30000000 | G20: =C20-D20-E20-F20 -> 4000000
A21: 불리 | B21: =월집계!A9 -> 2026-06 | C21: =월집계!B9 -> 100000000 | D21: =월집계!C9*가정!B5 -> 30000000 | E21: =월집계!D9*가정!C5/100 -> 36000000 | F21: =월집계!E9 -> 30000000 | G21: =C21-D21-E21-F21 -> 4000000
A22: 불리 | B22: =월집계!A10 -> 2026-07 | C22: =월집계!B10 -> 100000000 | D22: =월집계!C10*가정!B5 -> 30000000 | E22: =월집계!D10*가정!C5/100 -> 36000000 | F22: =월집계!E10 -> 30000000 | G22: =C22-D22-E22-F22 -> 4000000
A23: 불리 | B23: =월집계!A11 -> 2026-08 | C23: =월집계!B11 -> 100000000 | D23: =월집계!C11*가정!B5 -> 30000000 | E23: =월집계!D11*가정!C5/100 -> 36000000 | F23: =월집계!E11 -> 30000000 | G23: =C23-D23-E23-F23 -> 4000000
A24: 불리 | B24: =월집계!A12 -> 2026-09 | C24: =월집계!B12 -> 100000000 | D24: =월집계!C12*가정!B5 -> 30000000 | E24: =월집계!D12*가정!C5/100 -> 36000000 | F24: =월집계!E12 -> 30000000 | G24: =C24-D24-E24-F24 -> 4000000
A25: 불리 | B25: =월집계!A13 -> 2026-10 | C25: =월집계!B13 -> 100000000 | D25: =월집계!C13*가정!B5 -> 30000000 | E25: =월집계!D13*가정!C5/100 -> 36000000 | F25: =월집계!E13 -> 30000000 | G25: =C25-D25-E25-F25 -> 4000000
A26: 불리 | B26: =월집계!A14 -> 2026-11 | C26: =월집계!B14 -> 100000000 | D26: =월집계!C14*가정!B5 -> 30000000 | E26: =월집계!D14*가정!C5/100 -> 36000000 | F26: =월집계!E14 -> 30000000 | G26: =C26-D26-E26-F26 -> 4000000
A27: 불리 | B27: =월집계!A15 -> 2026-12 | C27: =월집계!B15 -> 100000000 | D27: =월집계!C15*가정!B5 -> 30000000 | E27: =월집계!D15*가정!C5/100 -> 36000000 | F27: =월집계!E15 -> 30000000 | G27: =C27-D27-E27-F27 -> 4000000
A28: 유리 | B28: =월집계!A4 -> 2026-01 | C28: =월집계!B4 -> 100000000 | D28: =월집계!C4*가정!B6 -> 24000000 | E28: =월집계!D4*가정!C6/100 -> 27000000 | F28: =월집계!E4 -> 30000000 | G28: =C28-D28-E28-F28 -> 19000000
A29: 유리 | B29: =월집계!A5 -> 2026-02 | C29: =월집계!B5 -> 100000000 | D29: =월집계!C5*가정!B6 -> 24000000 | E29: =월집계!D5*가정!C6/100 -> 27000000 | F29: =월집계!E5 -> 30000000 | G29: =C29-D29-E29-F29 -> 19000000
A30: 유리 | B30: =월집계!A6 -> 2026-03 | C30: =월집계!B6 -> 100000000 | D30: =월집계!C6*가정!B6 -> 24000000 | E30: =월집계!D6*가정!C6/100 -> 27000000 | F30: =월집계!E6 -> 30000000 | G30: =C30-D30-E30-F30 -> 19000000
A31: 유리 | B31: =월집계!A7 -> 2026-04 | C31: =월집계!B7 -> 100000000 | D31: =월집계!C7*가정!B6 -> 24000000 | E31: =월집계!D7*가정!C6/100 -> 27000000 | F31: =월집계!E7 -> 30000000 | G31: =C31-D31-E31-F31 -> 19000000
A32: 유리 | B32: =월집계!A8 -> 2026-05 | C32: =월집계!B8 -> 100000000 | D32: =월집계!C8*가정!B6 -> 24000000 | E32: =월집계!D8*가정!C6/100 -> 27000000 | F32: =월집계!E8 -> 30000000 | G32: =C32-D32-E32-F32 -> 19000000
A33: 유리 | B33: =월집계!A9 -> 2026-06 | C33: =월집계!B9 -> 100000000 | D33: =월집계!C9*가정!B6 -> 24000000 | E33: =월집계!D9*가정!C6/100 -> 27000000 | F33: =월집계!E9 -> 30000000 | G33: =C33-D33-E33-F33 -> 19000000
A34: 유리 | B34: =월집계!A10 -> 2026-07 | C34: =월집계!B10 -> 100000000 | D34: =월집계!C10*가정!B6 -> 24000000 | E34: =월집계!D10*가정!C6/100 -> 27000000 | F34: =월집계!E10 -> 30000000 | G34: =C34-D34-E34-F34 -> 19000000
A35: 유리 | B35: =월집계!A11 -> 2026-08 | C35: =월집계!B11 -> 100000000 | D35: =월집계!C11*가정!B6 -> 24000000 | E35: =월집계!D11*가정!C6/100 -> 27000000 | F35: =월집계!E11 -> 30000000 | G35: =C35-D35-E35-F35 -> 19000000
A36: 유리 | B36: =월집계!A12 -> 2026-09 | C36: =월집계!B12 -> 100000000 | D36: =월집계!C12*가정!B6 -> 24000000 | E36: =월집계!D12*가정!C6/100 -> 27000000 | F36: =월집계!E12 -> 30000000 | G36: =C36-D36-E36-F36 -> 19000000
A37: 유리 | B37: =월집계!A13 -> 2026-10 | C37: =월집계!B13 -> 100000000 | D37: =월집계!C13*가정!B6 -> 24000000 | E37: =월집계!D13*가정!C6/100 -> 27000000 | F37: =월집계!E13 -> 30000000 | G37: =C37-D37-E37-F37 -> 19000000
A38: 유리 | B38: =월집계!A14 -> 2026-11 | C38: =월집계!B14 -> 100000000 | D38: =월집계!C14*가정!B6 -> 24000000 | E38: =월집계!D14*가정!C6/100 -> 27000000 | F38: =월집계!E14 -> 30000000 | G38: =C38-D38-E38-F38 -> 19000000
A39: 유리 | B39: =월집계!A15 -> 2026-12 | C39: =월집계!B15 -> 100000000 | D39: =월집계!C15*가정!B6 -> 24000000 | E39: =월집계!D15*가정!C6/100 -> 27000000 | F39: =월집계!E15 -> 30000000 | G39: =C39-D39-E39-F39 -> 19000000

Sheet 연손익
A1: 교육 영상 시연용 가상 자료
A2: 한결물류 · 평택센터 · 가명 / 금액은 부가세 제외 / 2026년 비교용 예시
A3: 시나리오 | B3: 매출(원) | C3: 해외운송(원) | D3: 국내원자재(원) | E3: 기타운영비(원) | F3: 영업이익(원)
A4: 기준 | B4: =SUMIF(월손익!A4:A39,A4,월손익!C4:C39) -> 1200000000 | C4: =SUMIF(월손익!A4:A39,A4,월손익!D4:D39) -> 312000000 | D4: =SUMIF(월손익!A4:A39,A4,월손익!E4:E39) -> 360000000 | E4: =SUMIF(월손익!A4:A39,A4,월손익!F4:F39) -> 360000000 | F4: =SUMIF(월손익!A4:A39,A4,월손익!G4:G39) -> 168000000
A5: 불리 | B5: =SUMIF(월손익!A4:A39,A5,월손익!C4:C39) -> 1200000000 | C5: =SUMIF(월손익!A4:A39,A5,월손익!D4:D39) -> 360000000 | D5: =SUMIF(월손익!A4:A39,A5,월손익!E4:E39) -> 432000000 | E5: =SUMIF(월손익!A4:A39,A5,월손익!F4:F39) -> 360000000 | F5: =SUMIF(월손익!A4:A39,A5,월손익!G4:G39) -> 48000000
A6: 유리 | B6: =SUMIF(월손익!A4:A39,A6,월손익!C4:C39) -> 1200000000 | C6: =SUMIF(월손익!A4:A39,A6,월손익!D4:D39) -> 288000000 | D6: =SUMIF(월손익!A4:A39,A6,월손익!E4:E39) -> 324000000 | E6: =SUMIF(월손익!A4:A39,A6,월손익!F4:F39) -> 360000000 | F6: =SUMIF(월손익!A4:A39,A6,월손익!G4:G39) -> 228000000

Sheet 대응가정
A1: 교육 영상 시연용 가상 자료
A2: 한결물류 · 평택센터 · 가명 / 금액은 부가세 제외 / 2026년 비교용 예시
A3: 항목 | B3: 값 | C3: 단위·조건
A4: A 절감률 | B4: 0.05 | C4: 국내원자재 사용량 / 승인 전 가정
A5: A 월 도입비 | B5: 600000 | C5: 원 / 12개월
A6: A 적용개월 | B6: 12 | C6: 1월부터
A7: B 인상률 | B7: 0.02 | C7: 운임조정 대상 매출에만
A8: B 적용개월 | B8: 9 | C8: 4월부터
A9: 월이익 경고선 | B9: 5000000 | C9: 원 미만
A10: 환율 경고선 | B10: 1450 | C10: 원 이상
A11: 지수 경고선 | B11: 115 | C11: 이상

Sheet 대응비교
A1: 교육 영상 시연용 가상 자료
A2: 한결물류 · 평택센터 · 가명 / 금액은 부가세 제외 / 2026년 비교용 예시
A3: 대응안 | B3: 연 총효과(원) | C3: 연 도입비(원) | D3: 연 순개선(원) | E3: 대응후 연이익(원) | F3: 승인
A4: A 사용량 줄이기 | B4: =연손익!D5*대응가정!B4*대응가정!B6/12 -> 21600000 | C4: =대응가정!B5*대응가정!B6 -> 7200000 | D4: =B4-C4 -> 14400000 | E4: =연손익!F5+D4 -> 62400000 | F4: 확인 필요
A5: B 운임 조정 | B5: =월집계!F4*대응가정!B7*대응가정!B8 -> 10800000 | C5: 0 | D5: =B5-C5 -> 10800000 | E5: =연손익!F5+D5 -> 58800000 | F5: 확인 필요
A6: A 효과 0% 시험 | B6: 0 | C6: =C4 -> 7200000 | D6: =B6-C6 -> -7200000 | E6: =연손익!F5+D6 -> 40800000 | F6: 승인 보류

Sheet 검산
A1: 교육 영상 시연용 가상 자료
A2: 한결물류 · 평택센터 · 가명 / 금액은 부가세 제외 / 2026년 비교용 예시
A3: 항목 | B3: 값 | C3: 기대값 | D3: 차이
A4: 연매출 | B4: =SUM(매출정리!E4:E363) -> 1200000000 | C4: 1200000000 | D4: =B4-C4 -> 0
A5: 연달러 | B5: =SUMIF(비용정리!E4:E483,"USD",비용정리!D4:D483) -> 240000 | C5: 240000 | D5: =B5-C5 -> 0
A6: 기준 연이익 | B6: =연손익!F4 -> 168000000 | C6: 168000000 | D6: =B6-C6 -> 0
A7: 불리 연이익 | B7: =연손익!F5 -> 48000000 | C7: 48000000 | D7: =B7-C7 -> 0
A8: 유리 연이익 | B8: =연손익!F6 -> 228000000 | C8: 228000000 | D8: =B8-C8 -> 0
A9: A 순개선 | B9: =대응비교!D4 -> 14400000 | C9: 14400000 | D9: =B9-C9 -> 0
A10: A 대응후 | B10: =대응비교!E4 -> 62400000 | C10: 62400000 | D10: =B10-C10 -> 0
A11: B 순개선 | B11: =대응비교!D5 -> 10800000 | C11: 10800000 | D11: =B11-C11 -> 0
A12: A 효과0% | B12: =대응비교!E6 -> 40800000 | C12: 40800000 | D12: =B12-C12 -> 0
