Workbook

Sheet 안내
A1: 교육 영상 시연용 가상 자료
A2: 한결물류(가명) · 2026년 가상 사내 규정 기준 · 배포 전 법무 검토 필요
A3: 과거 답안은 기존 정답표로만 집계. 당시 문항 전문·규정 없음.
A4: 미응답을 분모에 포함한다. 개인별 순위나 위반 판정에 사용하지 않는다.

Sheet 원본행
A1: 교육 영상 시연용 가상 자료
A2: 원본 행 | B2: 사번 | C2: 부서 | D2: 문항 | E2: 선택
A3: 3 | B3: E1001 | C3: 운영팀 | D3: 1
A4: 4 | B4: E1001 | C4: 운영팀 | D4: 2 | E4: 3
A5: 5 | B5: E1001 | C5: 운영팀 | D5: 3 | E5: 1
A6: 6 | B6: E1001 | C6: 운영팀 | D6: 4
A7: 7 | B7: E1001 | C7: 운영팀 | D7: 5 | E7: 3
A8: 8 | B8: E1001 | C8: 운영팀 | D8: 6 | E8: 3
A9: 9 | B9: E1001 | C9: 운영팀 | D9: 7 | E9: 1
A10: 10 | B10: E1001 | C10: 운영팀 | D10: 8 | E10: 4
A11: 11 | B11: E1001 | C11: 운영팀 | D11: 9 | E11: 2
A12: 12 | B12: E1001 | C12: 운영팀 | D12: 10 | E12: 3
A13: 13 | B13: E1002 | C13: 운영 | D13: 1 | E13: 4
A14: 14 | B14: E1002 | C14: 운영 | D14: 2 | E14: 3
A15: 15 | B15: E1002 | C15: 운영 | D15: 3 | E15: 1
A16: 16 | B16: E1002 | C16: 운영 | D16: 4 | E16: 3
A17: 17 | B17: E1002 | C17: 운영 | D17: 5 | E17: 4
A18: 18 | B18: E1002 | C18: 운영 | D18: 6 | E18: 3
... A72: 72 | B72: E1007 | C72: 운영팀 | D72: 10 | E72: 3
A73: 73 | B73: E1008 | C73: 운영 | D73: 1
A74: 74 | B74: E1008 | C74: 운영 | D74: 2 | E74: 3
A75: 75 | B75: E1008 | C75: 운영 | D75: 3 | E75: 1
A76: 76 | B76: E1008 | C76: 운영 | D76: 4
A77: 77 | B77: E1008 | C77: 운영 | D77: 5 | E77: 4
A78: 78 | B78: E1008 | C78: 운영 | D78: 6 | E78: 3
A79: 79 | B79: E1008 | C79: 운영 | D79: 7 | E79: 1
A80: 80 | B80: E1008 | C80: 운영 | D80: 8 | E80: 4
A81: 81 | B81: E1008 | C81: 운영 | D81: 9 | E81: 2
A82: 82 | B82: E1008 | C82: 운영 | D82: 10 | E82: 1
A83: 83 | B83: E1009 | C83: 운영 팀 | D83: 1 | E83: 3
A84: 84 | B84: E1009 | C84: 운영 팀 | D84: 2 | E84: 2
A85: 85 | B85: E1009 | C85: 운영 팀 | D85: 3 | E85: 4
A86: 86 | B86: E1009 | C86: 운영 팀 | D86: 4 | E86: 4
A87: 87 | B87: E1009 | C87: 운영 팀 | D87: 5 | E87: 4
A88: 88 | B88: E1009 | C88: 운영 팀 | D88: 6 | E88: 3
... A143: 143 | B143: E1015 | C143: 운영 팀 | D143: 1 | E143: 2
A144: 144 | B144: E1015 | C144: 운영 팀 | D144: 2
A145: 145 | B145: E1015 | C145: 운영 팀 | D145: 3 | E145: 2
A146: 146 | B146: E1015 | C146: 운영 팀 | D146: 4
A147: 147 | B147: E1015 | C147: 운영 팀 | D147: 5 | E147: 3
A148: 148 | B148: E1015 | C148: 운영 팀 | D148: 6 | E148: 3
A149: 149 | B149: E1015 | C149: 운영 팀 | D149: 7 | E149: 1
A150: 150 | B150: E1015 | C150: 운영 팀 | D150: 8 | E150: 4
A151: 151 | B151: E1015 | C151: 운영 팀 | D151: 9 | E151: 3
A152: 152 | B152: E1015 | C152: 운영 팀 | D152: 10 | E152: 3
A153: 153 | B153: E1016 | C153: 운영팀 | D153: 1 | E153: 2
A154: 154 | B154: E1016 | C154: 운영팀 | D154: 2 | E154: 3
A155: 155 | B155: E1016 | C155: 운영팀 | D155: 3 | E155: 1
A156: 156 | B156: E1016 | C156: 운영팀 | D156: 4 | E156: 4
A157: 157 | B157: E1016 | C157: 운영팀 | D157: 5 | E157: 2
A158: 158 | B158: E1016 | C158: 운영팀 | D158: 6 | E158: 3
... A213: 213 | B213: E1022 | C213: 운영팀 | D213: 1 | E213: 2
A214: 214 | B214: E1022 | C214: 운영팀 | D214: 2
A215: 215 | B215: E1022 | C215: 운영팀 | D215: 3 | E215: 1
A216: 216 | B216: E1022 | C216: 운영팀 | D216: 4 | E216: 2
A217: 217 | B217: E1022 | C217: 운영팀 | D217: 5 | E217: 2
A218: 218 | B218: E1022 | C218: 운영팀 | D218: 6 | E218: 3
A219: 219 | B219: E1022 | C219: 운영팀 | D219: 7 | E219: 1
A220: 220 | B220: E1022 | C220: 운영팀 | D220: 8 | E220: 2
A221: 221 | B221: E1022 | C221: 운영팀 | D221: 9 | E221: 2
A222: 222 | B222: E1022 | C222: 운영팀 | D222: 10 | E222: 3
A223: 223 | B223: E1023 | C223: 운영 | D223: 1 | E223: 4
A224: 224 | B224: E1023 | C224: 운영 | D224: 2 | E224: 3
A225: 225 | B225: E1023 | C225: 운영 | D225: 3 | E225: 1
A226: 226 | B226: E1023 | C226: 운영 | D226: 4 | E226: 1
... A473: 473 | B473: E1047 | C473: 경영지원팀 | D473: 1 | E473: 2
A474: 474 | B474: E1047 | C474: 경영지원팀 | D474: 2
A475: 475 | B475: E1047 | C475: 경영지원팀 | D475: 3 | E475: 1
A476: 476 | B476: E1047 | C476: 경영지원팀 | D476: 4 | E476: 4
A477: 477 | B477: E1047 | C477: 경영지원팀 | D477: 5 | E477: 2
A478: 478 | B478: E1047 | C478: 경영지원팀 | D478: 6 | E478: 1
A479: 479 | B479: E1047 | C479: 경영지원팀 | D479: 7 | E479: 1
A480: 480 | B480: E1047 | C480: 경영지원팀 | D480: 8 | E480: 3
A481: 481 | B481: E1047 | C481: 경영지원팀 | D481: 9 | E481: 2
A482: 482 | B482: E1047 | C482: 경영지원팀 | D482: 10 | E482: 3
A483: 483 | B483: E1048 | C483: 경영지원 | D483: 1 | E483: 2
A484: 484 | B484: E1048 | C484: 경영지원 | D484: 2 | E484: 3
A485: 485 | B485: E1048 | C485: 경영지원 | D485: 3 | E485: 1
A486: 486 | B486: E1048 | C486: 경영지원 | D486: 4 | E486: 2
... A612: 612 | B612: E1060 | C612: 경영지원 | D612: 10 | E612: 1

Sheet 정리답안
A1: 교육 영상 시연용 가상 자료
A2: 사번 | B2: 부서 | C2: 문항 | D2: 선택 | E2: 정답 | F2: 판정 | G2: 원본 행
A3: E1001 | B3: 운영팀 | C3: 1 | E3: 2 | F3: =IF(D3="","미응답",IF(D3=E3,"정답","오답")) -> 미응답 | G3: 3
A4: E1001 | B4: 운영팀 | C4: 2 | D4: 3 | E4: 3 | F4: =IF(D4="","미응답",IF(D4=E4,"정답","오답")) -> 정답 | G4: 4
A5: E1001 | B5: 운영팀 | C5: 3 | D5: 1 | E5: 1 | F5: =IF(D5="","미응답",IF(D5=E5,"정답","오답")) -> 정답 | G5: 5
A6: E1001 | B6: 운영팀 | C6: 4 | E6: 4 | F6: =IF(D6="","미응답",IF(D6=E6,"정답","오답")) -> 미응답 | G6: 6
A7: E1001 | B7: 운영팀 | C7: 5 | D7: 3 | E7: 2 | F7: =IF(D7="","미응답",IF(D7=E7,"정답","오답")) -> 오답 | G7: 7
A8: E1001 | B8: 운영팀 | C8: 6 | D8: 3 | E8: 3 | F8: =IF(D8="","미응답",IF(D8=E8,"정답","오답")) -> 정답 | G8: 8
A9: E1001 | B9: 운영팀 | C9: 7 | D9: 1 | E9: 1 | F9: =IF(D9="","미응답",IF(D9=E9,"정답","오답")) -> 정답 | G9: 9
A10: E1001 | B10: 운영팀 | C10: 8 | D10: 4 | E10: 4 | F10: =IF(D10="","미응답",IF(D10=E10,"정답","오답")) -> 정답 | G10: 10
A11: E1001 | B11: 운영팀 | C11: 9 | D11: 2 | E11: 2 | F11: =IF(D11="","미응답",IF(D11=E11,"정답","오답")) -> 정답 | G11: 11
A12: E1001 | B12: 운영팀 | C12: 10 | D12: 3 | E12: 3 | F12: =IF(D12="","미응답",IF(D12=E12,"정답","오답")) -> 정답 | G12: 12
A13: E1002 | B13: 운영팀 | C13: 1 | D13: 4 | E13: 2 | F13: =IF(D13="","미응답",IF(D13=E13,"정답","오답")) -> 오답 | G13: 13
A14: E1002 | B14: 운영팀 | C14: 2 | D14: 3 | E14: 3 | F14: =IF(D14="","미응답",IF(D14=E14,"정답","오답")) -> 정답 | G14: 14
A15: E1002 | B15: 운영팀 | C15: 3 | D15: 1 | E15: 1 | F15: =IF(D15="","미응답",IF(D15=E15,"정답","오답")) -> 정답 | G15: 15
A16: E1002 | B16: 운영팀 | C16: 4 | D16: 3 | E16: 4 | F16: =IF(D16="","미응답",IF(D16=E16,"정답","오답")) -> 오답 | G16: 16
A17: E1002 | B17: 운영팀 | C17: 5 | D17: 4 | E17: 2 | F17: =IF(D17="","미응답",IF(D17=E17,"정답","오답")) -> 오답 | G17: 17
A18: E1002 | B18: 운영팀 | C18: 6 | D18: 3 | E18: 3 | F18: =IF(D18="","미응답",IF(D18=E18,"정답","오답")) -> 정답 | G18: 18
... A72: E1007 | B72: 운영팀 | C72: 10 | D72: 3 | E72: 3 | F72: =IF(D72="","미응답",IF(D72=E72,"정답","오답")) -> 정답 | G72: 72
A73: E1008 | B73: 운영팀 | C73: 1 | E73: 2 | F73: =IF(D73="","미응답",IF(D73=E73,"정답","오답")) -> 미응답 | G73: 73
A74: E1008 | B74: 운영팀 | C74: 2 | D74: 3 | E74: 3 | F74: =IF(D74="","미응답",IF(D74=E74,"정답","오답")) -> 정답 | G74: 74
A75: E1008 | B75: 운영팀 | C75: 3 | D75: 1 | E75: 1 | F75: =IF(D75="","미응답",IF(D75=E75,"정답","오답")) -> 정답 | G75: 75
A76: E1008 | B76: 운영팀 | C76: 4 | E76: 4 | F76: =IF(D76="","미응답",IF(D76=E76,"정답","오답")) -> 미응답 | G76: 76
A77: E1008 | B77: 운영팀 | C77: 5 | D77: 4 | E77: 2 | F77: =IF(D77="","미응답",IF(D77=E77,"정답","오답")) -> 오답 | G77: 77
A78: E1008 | B78: 운영팀 | C78: 6 | D78: 3 | E78: 3 | F78: =IF(D78="","미응답",IF(D78=E78,"정답","오답")) -> 정답 | G78: 78
A79: E1008 | B79: 운영팀 | C79: 7 | D79: 1 | E79: 1 | F79: =IF(D79="","미응답",IF(D79=E79,"정답","오답")) -> 정답 | G79: 79
A80: E1008 | B80: 운영팀 | C80: 8 | D80: 4 | E80: 4 | F80: =IF(D80="","미응답",IF(D80=E80,"정답","오답")) -> 정답 | G80: 80
A81: E1008 | B81: 운영팀 | C81: 9 | D81: 2 | E81: 2 | F81: =IF(D81="","미응답",IF(D81=E81,"정답","오답")) -> 정답 | G81: 81
A82: E1008 | B82: 운영팀 | C82: 10 | D82: 1 | E82: 3 | F82: =IF(D82="","미응답",IF(D82=E82,"정답","오답")) -> 오답 | G82: 82
A83: E1009 | B83: 운영팀 | C83: 1 | D83: 3 | E83: 2 | F83: =IF(D83="","미응답",IF(D83=E83,"정답","오답")) -> 오답 | G83: 83
A84: E1009 | B84: 운영팀 | C84: 2 | D84: 2 | E84: 3 | F84: =IF(D84="","미응답",IF(D84=E84,"정답","오답")) -> 오답 | G84: 84
A85: E1009 | B85: 운영팀 | C85: 3 | D85: 4 | E85: 1 | F85: =IF(D85="","미응답",IF(D85=E85,"정답","오답")) -> 오답 | G85: 85
A86: E1009 | B86: 운영팀 | C86: 4 | D86: 4 | E86: 4 | F86: =IF(D86="","미응답",IF(D86=E86,"정답","오답")) -> 정답 | G86: 86
A87: E1009 | B87: 운영팀 | C87: 5 | D87: 4 | E87: 2 | F87: =IF(D87="","미응답",IF(D87=E87,"정답","오답")) -> 오답 | G87: 87
A88: E1009 | B88: 운영팀 | C88: 6 | D88: 3 | E88: 3 | F88: =IF(D88="","미응답",IF(D88=E88,"정답","오답")) -> 정답 | G88: 88
... A143: E1015 | B143: 운영팀 | C143: 1 | D143: 2 | E143: 2 | F143: =IF(D143="","미응답",IF(D143=E143,"정답","오답")) -> 정답 | G143: 143
A144: E1015 | B144: 운영팀 | C144: 2 | E144: 3 | F144: =IF(D144="","미응답",IF(D144=E144,"정답","오답")) -> 미응답 | G144: 144
A145: E1015 | B145: 운영팀 | C145: 3 | D145: 2 | E145: 1 | F145: =IF(D145="","미응답",IF(D145=E145,"정답","오답")) -> 오답 | G145: 145
A146: E1015 | B146: 운영팀 | C146: 4 | E146: 4 | F146: =IF(D146="","미응답",IF(D146=E146,"정답","오답")) -> 미응답 | G146: 146
A147: E1015 | B147: 운영팀 | C147: 5 | D147: 3 | E147: 2 | F147: =IF(D147="","미응답",IF(D147=E147,"정답","오답")) -> 오답 | G147: 147
A148: E1015 | B148: 운영팀 | C148: 6 | D148: 3 | E148: 3 | F148: =IF(D148="","미응답",IF(D148=E148,"정답","오답")) -> 정답 | G148: 148
A149: E1015 | B149: 운영팀 | C149: 7 | D149: 1 | E149: 1 | F149: =IF(D149="","미응답",IF(D149=E149,"정답","오답")) -> 정답 | G149: 149
A150: E1015 | B150: 운영팀 | C150: 8 | D150: 4 | E150: 4 | F150: =IF(D150="","미응답",IF(D150=E150,"정답","오답")) -> 정답 | G150: 150
A151: E1015 | B151: 운영팀 | C151: 9 | D151: 3 | E151: 2 | F151: =IF(D151="","미응답",IF(D151=E151,"정답","오답")) -> 오답 | G151: 151
A152: E1015 | B152: 운영팀 | C152: 10 | D152: 3 | E152: 3 | F152: =IF(D152="","미응답",IF(D152=E152,"정답","오답")) -> 정답 | G152: 152
A153: E1016 | B153: 운영팀 | C153: 1 | D153: 2 | E153: 2 | F153: =IF(D153="","미응답",IF(D153=E153,"정답","오답")) -> 정답 | G153: 153
A154: E1016 | B154: 운영팀 | C154: 2 | D154: 3 | E154: 3 | F154: =IF(D154="","미응답",IF(D154=E154,"정답","오답")) -> 정답 | G154: 154
A155: E1016 | B155: 운영팀 | C155: 3 | D155: 1 | E155: 1 | F155: =IF(D155="","미응답",IF(D155=E155,"정답","오답")) -> 정답 | G155: 155
A156: E1016 | B156: 운영팀 | C156: 4 | D156: 4 | E156: 4 | F156: =IF(D156="","미응답",IF(D156=E156,"정답","오답")) -> 정답 | G156: 156
A157: E1016 | B157: 운영팀 | C157: 5 | D157: 2 | E157: 2 | F157: =IF(D157="","미응답",IF(D157=E157,"정답","오답")) -> 정답 | G157: 157
A158: E1016 | B158: 운영팀 | C158: 6 | D158: 3 | E158: 3 | F158: =IF(D158="","미응답",IF(D158=E158,"정답","오답")) -> 정답 | G158: 158
... A213: E1022 | B213: 운영팀 | C213: 1 | D213: 2 | E213: 2 | F213: =IF(D213="","미응답",IF(D213=E213,"정답","오답")) -> 정답 | G213: 213
A214: E1022 | B214: 운영팀 | C214: 2 | E214: 3 | F214: =IF(D214="","미응답",IF(D214=E214,"정답","오답")) -> 미응답 | G214: 214
A215: E1022 | B215: 운영팀 | C215: 3 | D215: 1 | E215: 1 | F215: =IF(D215="","미응답",IF(D215=E215,"정답","오답")) -> 정답 | G215: 215
A216: E1022 | B216: 운영팀 | C216: 4 | D216: 2 | E216: 4 | F216: =IF(D216="","미응답",IF(D216=E216,"정답","오답")) -> 오답 | G216: 216
A217: E1022 | B217: 운영팀 | C217: 5 | D217: 2 | E217: 2 | F217: =IF(D217="","미응답",IF(D217=E217,"정답","오답")) -> 정답 | G217: 217
A218: E1022 | B218: 운영팀 | C218: 6 | D218: 3 | E218: 3 | F218: =IF(D218="","미응답",IF(D218=E218,"정답","오답")) -> 정답 | G218: 218
A219: E1022 | B219: 운영팀 | C219: 7 | D219: 1 | E219: 1 | F219: =IF(D219="","미응답",IF(D219=E219,"정답","오답")) -> 정답 | G219: 219
A220: E1022 | B220: 운영팀 | C220: 8 | D220: 2 | E220: 4 | F220: =IF(D220="","미응답",IF(D220=E220,"정답","오답")) -> 오답 | G220: 220
A221: E1022 | B221: 운영팀 | C221: 9 | D221: 2 | E221: 2 | F221: =IF(D221="","미응답",IF(D221=E221,"정답","오답")) -> 정답 | G221: 221
A222: E1022 | B222: 운영팀 | C222: 10 | D222: 3 | E222: 3 | F222: =IF(D222="","미응답",IF(D222=E222,"정답","오답")) -> 정답 | G222: 222
A223: E1023 | B223: 운영팀 | C223: 1 | D223: 4 | E223: 2 | F223: =IF(D223="","미응답",IF(D223=E223,"정답","오답")) -> 오답 | G223: 223
A224: E1023 | B224: 운영팀 | C224: 2 | D224: 3 | E224: 3 | F224: =IF(D224="","미응답",IF(D224=E224,"정답","오답")) -> 정답 | G224: 224
A225: E1023 | B225: 운영팀 | C225: 3 | D225: 1 | E225: 1 | F225: =IF(D225="","미응답",IF(D225=E225,"정답","오답")) -> 정답 | G225: 225
A226: E1023 | B226: 운영팀 | C226: 4 | D226: 1 | E226: 4 | F226: =IF(D226="","미응답",IF(D226=E226,"정답","오답")) -> 오답 | G226: 226
... A463: E1047 | B463: 경영지원팀 | C463: 1 | D463: 2 | E463: 2 | F463: =IF(D463="","미응답",IF(D463=E463,"정답","오답")) -> 정답 | G463: 473
A464: E1047 | B464: 경영지원팀 | C464: 2 | E464: 3 | F464: =IF(D464="","미응답",IF(D464=E464,"정답","오답")) -> 미응답 | G464: 474
A465: E1047 | B465: 경영지원팀 | C465: 3 | D465: 1 | E465: 1 | F465: =IF(D465="","미응답",IF(D465=E465,"정답","오답")) -> 정답 | G465: 475
A466: E1047 | B466: 경영지원팀 | C466: 4 | D466: 4 | E466: 4 | F466: =IF(D466="","미응답",IF(D466=E466,"정답","오답")) -> 정답 | G466: 476
A467: E1047 | B467: 경영지원팀 | C467: 5 | D467: 2 | E467: 2 | F467: =IF(D467="","미응답",IF(D467=E467,"정답","오답")) -> 정답 | G467: 477
A468: E1047 | B468: 경영지원팀 | C468: 6 | D468: 1 | E468: 3 | F468: =IF(D468="","미응답",IF(D468=E468,"정답","오답")) -> 오답 | G468: 478
A469: E1047 | B469: 경영지원팀 | C469: 7 | D469: 1 | E469: 1 | F469: =IF(D469="","미응답",IF(D469=E469,"정답","오답")) -> 정답 | G469: 479
A470: E1047 | B470: 경영지원팀 | C470: 8 | D470: 3 | E470: 4 | F470: =IF(D470="","미응답",IF(D470=E470,"정답","오답")) -> 오답 | G470: 480
A471: E1047 | B471: 경영지원팀 | C471: 9 | D471: 2 | E471: 2 | F471: =IF(D471="","미응답",IF(D471=E471,"정답","오답")) -> 정답 | G471: 481
A472: E1047 | B472: 경영지원팀 | C472: 10 | D472: 3 | E472: 3 | F472: =IF(D472="","미응답",IF(D472=E472,"정답","오답")) -> 정답 | G472: 482
A473: E1048 | B473: 경영지원팀 | C473: 1 | D473: 2 | E473: 2 | F473: =IF(D473="","미응답",IF(D473=E473,"정답","오답")) -> 정답 | G473: 483
A474: E1048 | B474: 경영지원팀 | C474: 2 | D474: 3 | E474: 3 | F474: =IF(D474="","미응답",IF(D474=E474,"정답","오답")) -> 정답 | G474: 484
A475: E1048 | B475: 경영지원팀 | C475: 3 | D475: 1 | E475: 1 | F475: =IF(D475="","미응답",IF(D475=E475,"정답","오답")) -> 정답 | G475: 485
A476: E1048 | B476: 경영지원팀 | C476: 4 | D476: 2 | E476: 4 | F476: =IF(D476="","미응답",IF(D476=E476,"정답","오답")) -> 오답 | G476: 486
... A602: E1060 | B602: 경영지원팀 | C602: 10 | D602: 1 | E602: 3 | F602: =IF(D602="","미응답",IF(D602=E602,"정답","오답")) -> 오답 | G602: 612

Sheet 정리내역
A1: 교육 영상 시연용 가상 자료
A2: 원본 행 | B2: 사번 | C2: 문항 | D2: 처리 | E2: 이유
A3: 233 | B3: E1023 | C3: 1 | D3: 중복 제외 | E3: 네 칸 모두 동일한 재제출
A4: 234 | B4: E1023 | C4: 2 | D4: 중복 제외 | E4: 네 칸 모두 동일한 재제출
A5: 235 | B5: E1023 | C5: 3 | D5: 중복 제외 | E5: 네 칸 모두 동일한 재제출
A6: 236 | B6: E1023 | C6: 4 | D6: 중복 제외 | E6: 네 칸 모두 동일한 재제출
A7: 237 | B7: E1023 | C7: 5 | D7: 중복 제외 | E7: 네 칸 모두 동일한 재제출
A8: 238 | B8: E1023 | C8: 6 | D8: 중복 제외 | E8: 네 칸 모두 동일한 재제출
A9: 239 | B9: E1023 | C9: 7 | D9: 중복 제외 | E9: 네 칸 모두 동일한 재제출
A10: 240 | B10: E1023 | C10: 8 | D10: 중복 제외 | E10: 네 칸 모두 동일한 재제출
A11: 241 | B11: E1023 | C11: 9 | D11: 중복 제외 | E11: 네 칸 모두 동일한 재제출
A12: 242 | B12: E1023 | C12: 10 | D12: 중복 제외 | E12: 네 칸 모두 동일한 재제출

Sheet 문항별집계
A1: 교육 영상 시연용 가상 자료
A2: 문항 | B2: 주제 | C2: 정답 | D2: 오답 | E2: 미응답 | F2: 전체 | G2: 정답률
A3: 1 | B3: 선물 받을 수 있는 한도 | C3: =COUNTIFS(정리답안!C3:C602,A3,정리답안!F3:F602,"정답") -> 27 | D3: =COUNTIFS(정리답안!C3:C602,A3,정리답안!F3:F602,"오답") -> 31 | E3: =COUNTIFS(정리답안!C3:C602,A3,정리답안!F3:F602,"미응답") -> 2 | F3: =SUM(C3:E3) -> 60 | G3: =C3/F3 -> 0.45
A4: 2 | B4: 선물 신고 기한 | C4: =COUNTIFS(정리답안!C3:C602,A4,정리답안!F3:F602,"정답") -> 41 | D4: =COUNTIFS(정리답안!C3:C602,A4,정리답안!F3:F602,"오답") -> 16 | E4: =COUNTIFS(정리답안!C3:C602,A4,정리답안!F3:F602,"미응답") -> 3 | F4: =SUM(C4:E4) -> 60 | G4: =C4/F4 -> 0.68333333
A5: 3 | B5: 거래처 경조사 | C5: =COUNTIFS(정리답안!C3:C602,A5,정리답안!F3:F602,"정답") -> 52 | D5: =COUNTIFS(정리답안!C3:C602,A5,정리답안!F3:F602,"오답") -> 8 | E5: =COUNTIFS(정리답안!C3:C602,A5,정리답안!F3:F602,"미응답") -> 0 | F5: =SUM(C5:E5) -> 60 | G5: =C5/F5 -> 0.86666667
A6: 4 | B6: 협력사 대금 지급일 | C6: =COUNTIFS(정리답안!C3:C602,A6,정리답안!F3:F602,"정답") -> 23 | D6: =COUNTIFS(정리답안!C3:C602,A6,정리답안!F3:F602,"오답") -> 34 | E6: =COUNTIFS(정리답안!C3:C602,A6,정리답안!F3:F602,"미응답") -> 3 | F6: =SUM(C6:E6) -> 60 | G6: =C6/F6 -> 0.38333333
A7: 5 | B7: 운송장 사진 촬영·전송 | C7: =COUNTIFS(정리답안!C3:C602,A7,정리답안!F3:F602,"정답") -> 31 | D7: =COUNTIFS(정리답안!C3:C602,A7,정리답안!F3:F602,"오답") -> 29 | E7: =COUNTIFS(정리답안!C3:C602,A7,정리답안!F3:F602,"미응답") -> 0 | F7: =SUM(C7:E7) -> 60 | G7: =C7/F7 -> 0.51666667
A8: 6 | B8: 다른 고객사 운임 문의 | C8: =COUNTIFS(정리답안!C3:C602,A8,정리답안!F3:F602,"정답") -> 49 | D8: =COUNTIFS(정리답안!C3:C602,A8,정리답안!F3:F602,"오답") -> 11 | E8: =COUNTIFS(정리답안!C3:C602,A8,정리답안!F3:F602,"미응답") -> 0 | F8: =SUM(C8:E8) -> 60 | G8: =C8/F8 -> 0.81666667
A9: 7 | B9: 운행 전 점검표 작성 | C9: =COUNTIFS(정리답안!C3:C602,A9,정리답안!F3:F602,"정답") -> 55 | D9: =COUNTIFS(정리답안!C3:C602,A9,정리답안!F3:F602,"오답") -> 5 | E9: =COUNTIFS(정리답안!C3:C602,A9,정리답안!F3:F602,"미응답") -> 0 | F9: =SUM(C9:E9) -> 60 | G9: =C9/F9 -> 0.91666667
A10: 8 | B10: 위반을 알았을 때 신고처 | C10: =COUNTIFS(정리답안!C3:C602,A10,정리답안!F3:F602,"정답") -> 44 | D10: =COUNTIFS(정리답안!C3:C602,A10,정리답안!F3:F602,"오답") -> 16 | E10: =COUNTIFS(정리답안!C3:C602,A10,정리답안!F3:F602,"미응답") -> 0 | F10: =SUM(C10:E10) -> 60 | G10: =C10/F10 -> 0.73333333
A11: 9 | B11: 신고자 보호 | C11: =COUNTIFS(정리답안!C3:C602,A11,정리답안!F3:F602,"정답") -> 50 | D11: =COUNTIFS(정리답안!C3:C602,A11,정리답안!F3:F602,"오답") -> 10 | E11: =COUNTIFS(정리답안!C3:C602,A11,정리답안!F3:F602,"미응답") -> 0 | F11: =SUM(C11:E11) -> 60 | G11: =C11/F11 -> 0.83333333
A12: 10 | B12: 친척 업체와 거래 | C12: =COUNTIFS(정리답안!C3:C602,A12,정리답안!F3:F602,"정답") -> 46 | D12: =COUNTIFS(정리답안!C3:C602,A12,정리답안!F3:F602,"오답") -> 14 | E12: =COUNTIFS(정리답안!C3:C602,A12,정리답안!F3:F602,"미응답") -> 0 | F12: =SUM(C12:E12) -> 60 | G12: =C12/F12 -> 0.76666667

Sheet 부서집계
A1: 교육 영상 시연용 가상 자료
A2: 부서 | B2: 인원
A3: 운영팀 | B3: =COUNTIFS(정리답안!B3:B602,A3,정리답안!C3:C602,1) -> 24
A4: 영업팀 | B4: =COUNTIFS(정리답안!B3:B602,A4,정리답안!C3:C602,1) -> 12
A5: 협력사관리팀 | B5: =COUNTIFS(정리답안!B3:B602,A5,정리답안!C3:C602,1) -> 10
A6: 경영지원팀 | B6: =COUNTIFS(정리답안!B3:B602,A6,정리답안!C3:C602,1) -> 14
A7: 합계 | B7: =SUM(B3:B6) -> 60

Sheet 검산
A1: 교육 영상 시연용 가상 자료
A2: 항목 | B2: 계산 결과 | C2: 독립 기준값 | D2: 일치
A3: 원본 행 | B3: =COUNTA(원본행!B3:B612) -> 610 | C3: 610 | D3: =B3=C3 -> TRUE
A4: 중복 제외 | B4: =COUNTA(정리내역!B3:B12) -> 10 | C4: 10 | D4: =B4=C4 -> TRUE
A5: 정리 행 | B5: =COUNTA(정리답안!A3:A602) -> 600 | C5: 600 | D5: =B5=C5 -> TRUE
A6: 정답 | B6: =COUNTIF(정리답안!F3:F602,"정답") -> 418 | C6: 418 | D6: =B6=C6 -> TRUE
A7: 오답 | B7: =COUNTIF(정리답안!F3:F602,"오답") -> 174 | C7: 174 | D7: =B7=C7 -> TRUE
A8: 미응답 | B8: =COUNTIF(정리답안!F3:F602,"미응답") -> 8 | C8: 8 | D8: =B8=C8 -> TRUE
A9: 상태 합계 | B9: =SUM(B6:B8) -> 600 | C9: 600 | D9: =B9=C9 -> TRUE
A10: 정답률 | B10: =B6/B5 -> 0.69666667 | C10: 0.69666667 | D10: =B10=C10 -> TRUE
A11: 부서 인원 | B11: =부서집계!B7 -> 60 | C11: 60 | D11: =B11=C11 -> TRUE
