Workbook

Sheet 안내
A1: 교육 영상 시연용 가상 자료
A2: 한결물류(가명) · 2026년 가상 사내 규정 기준 · 배포 전 법무 검토 필요
A3: 과거 답안은 기존 정답표로만 집계. 당시 문항 전문·규정 없음.
A4: 미응답을 분모에 포함한다. 개인별 순위나 위반 판정에 사용하지 않는다.

Sheet 원본행
A1: 교육 영상 시연용 가상 자료
A2: 원본 행 | B2: 사번 | C2: 부서 | D2: 문항 | E2: 선택
A3: 3 | B3: E1001 | C3: 운영팀 | D3: 1
A4: 4 | B4: E1001 | C4: 운영팀 | D4: 2 | E4: 3
A5: 5 | B5: E1001 | C5: 운영팀 | D5: 3 | E5: 1
A6: 6 | B6: E1001 | C6: 운영팀 | D6: 4
A7: 7 | B7: E1001 | C7: 운영팀 | D7: 5 | E7: 3
A8: 8 | B8: E1001 | C8: 운영팀 | D8: 6 | E8: 3
A9: 9 | B9: E1001 | C9: 운영팀 | D9: 7 | E9: 1
A10: 10 | B10: E1001 | C10: 운영팀 | D10: 8 | E10: 4
A11: 11 | B11: E1001 | C11: 운영팀 | D11: 9 | E11: 2
A12: 12 | B12: E1001 | C12: 운영팀 | D12: 10 | E12: 3
A13: 13 | B13: E1002 | C13: 운영 | D13: 1 | E13: 4
A14: 14 | B14: E1002 | C14: 운영 | D14: 2 | E14: 3
A15: 15 | B15: E1002 | C15: 운영 | D15: 3 | E15: 1
A16: 16 | B16: E1002 | C16: 운영 | D16: 4 | E16: 3
A17: 17 | B17: E1002 | C17: 운영 | D17: 5 | E17: 4
A18: 18 | B18: E1002 | C18: 운영 | D18: 6 | E18: 3
... A72: 72 | B72: E1007 | C72: 운영팀 | D72: 10 | E72: 3
A73: 73 | B73: E1008 | C73: 운영 | D73: 1
A74: 74 | B74: E1008 | C74: 운영 | D74: 2 | E74: 3
A75: 75 | B75: E1008 | C75: 운영 | D75: 3 | E75: 1
A76: 76 | B76: E1008 | C76: 운영 | D76: 4
A77: 77 | B77: E1008 | C77: 운영 | D77: 5 | E77: 4
A78: 78 | B78: E1008 | C78: 운영 | D78: 6 | E78: 3
A79: 79 | B79: E1008 | C79: 운영 | D79: 7 | E79: 1
A80: 80 | B80: E1008 | C80: 운영 | D80: 8 | E80: 4
A81: 81 | B81: E1008 | C81: 운영 | D81: 9 | E81: 2
A82: 82 | B82: E1008 | C82: 운영 | D82: 10 | E82: 1
A83: 83 | B83: E1009 | C83: 운영 팀 | D83: 1 | E83: 3
A84: 84 | B84: E1009 | C84: 운영 팀 | D84: 2 | E84: 2
A85: 85 | B85: E1009 | C85: 운영 팀 | D85: 3 | E85: 4
A86: 86 | B86: E1009 | C86: 운영 팀 | D86: 4 | E86: 4
A87: 87 | B87: E1009 | C87: 운영 팀 | D87: 5 | E87: 4
A88: 88 | B88: E1009 | C88: 운영 팀 | D88: 6 | E88: 3
... A143: 143 | B143: E1015 | C143: 운영 팀 | D143: 1 | E143: 2
A144: 144 | B144: E1015 | C144: 운영 팀 | D144: 2
A145: 145 | B145: E1015 | C145: 운영 팀 | D145: 3 | E145: 2
A146: 146 | B146: E1015 | C146: 운영 팀 | D146: 4
A147: 147 | B147: E1015 | C147: 운영 팀 | D147: 5 | E147: 3
...

Sheet 정리답안
A1: 교육 영상 시연용 가상 자료
A2: 사번 | B2: 부서 | C2: 문항 | D2: 선택 | E2: 정답 | F2: 판정 | G2: 원본 행
A3: E1001 | B3: 운영팀 | C3: 1 | E3: 2 | F3: =IF(D3="","미응답",IF(D3=E3,"정답","오답")) -> 미응답 | G3: 3
A4: E1001 | B4: 운영팀 | C4: 2 | D4: 3 | E4: 3 | F4: =IF(D4="","미응답",IF(D4=E4,"정답","오답")) -> 정답 | G4: 4
A5: E1001 | B5: 운영팀 | C5: 3 | D5: 1 | E5: 1 | F5: =IF(D5="","미응답",IF(D5=E5,"정답","오답")) -> 정답 | G5: 5
A6: E1001 | B6: 운영팀 | C6: 4 | E6: 4 | F6: =IF(D6="","미응답",IF(D6=E6,"정답","오답")) -> 미응답 | G6: 6
A7: E1001 | B7: 운영팀 | C7: 5 | D7: 3 | E7: 2 | F7: =IF(D7="","미응답",IF(D7=E7,"정답","오답")) -> 오답 | G7: 7
A8: E1001 | B8: 운영팀 | C8: 6 | D8: 3 | E8: 3 | F8: =IF(D8="","미응답",IF(D8=E8,"정답","오답")) -> 정답 | G8: 8
A9: E1001 | B9: 운영팀 | C9: 7 | D9: 1 | E9: 1 | F9: =IF(D9="","미응답",IF(D9=E9,"정답","오답")) -> 정답 | G9: 9
A10: E1001 | B10: 운영팀 | C10: 8 | D10: 4 | E10: 4 | F10: =IF(D10="","미응답",IF(D10=E10,"정답","오답")) -> 정답 | G10: 10
A11: E1001 | B11: 운영팀 | C11: 9 | D11: 2 | E11: 2 | F11: =IF(D11="","미응답",IF(D11=E11,"정답","오답")) -> 정답 | G11: 11
A12: E1001 | B12: 운영팀 | C12: 10 | D12: 3 | E12: 3 | F12: =IF(D12="","미응답",IF(D12=E12,"정답","오답")) -> 정답 | G12: 12
A13: E1002 | B13: 운영팀 | C13: 1 | D13: 4 | E13: 2 | F13: =IF(D13="","미응답",IF(D13=E13,"정답","오답")) -> 오답 | G13: 13
A14: E1002 | B14: 운영팀 | C14: 2 | D14: 3 | E14: 3 | F14: =IF(D14="","미응답",IF(D14=E14,"정답","오답")) -> 정답 | G14: 14
A15: E1002 | B15: 운영팀 | C15: 3 | D15: 1 | E15: 1 | F15: =IF(D15="","미응답",IF(D15=E15,"정답","오답")) -> 정답 | G15: 15
A16: E1002 | B16: 운영팀 | C16: 4 | D16: 3 | E16: 4 | F16: =IF(D16="","미응답",IF(D16=E16,"정답","오답")) -> 오답 | G16: 16
A17: E1002 | B17: 운영팀 | C17: 5 | D17: 4 | E17: 2 | F17: =IF(D17="","미응답",IF(D17=E17,"정답","오답")) -> 오답 | G17: 17
A18: E1002 | B18: 운영팀 | C18: 6 | D18: 3 | E18: 3 | F18: =IF(D18="","미응답",IF(D18=E18,"정답","오답")) -> 정답 | G18: 18
... A72: E1007 | B72: 운영팀 | C72: 10 | D72: 3 | E72: 3 | F72: =IF(D72="","미응답",IF(D72=E72,"정답","오답")) -> 정답 | G72: 72
A73: E1008 | B73: 운영팀 | C73: 1 | E73: 2 | F73: =IF(D73="","미응답",IF(D73=E73,"정답","오답")) -> 미응답 | G73: 73
A74: E1008 | B74: 운영팀 | C74: 2 | D74: 3 | E74: 3 | F74: =IF(D74="","미응답",IF(D74=E74,"정답","오답")) -> 정답 | G74: 74
A75: E1008 | B75: 운영팀 | C75: 3 | D75: 1 | E75: 1 | F75: =IF(D75="","미응답",IF(D75=E75,"정답","오답")) -> 정답 | G75: 75
A76: E1008 | B76: 운영팀 | C76: 4 | E76: 4 | F76: =IF(D76="","미응답",IF(D76=E76,"정답","오답")) -> 미응답 | G76: 76
A77: E1008 | B77: 운영팀 | C77: 5 | D77: 4 | E77: 2 | F77: =IF(D77="","미응답",IF(D77=E77,"정답","오답")) -> 오답 | G77: 77
A78: E1008 | B78: 운영팀 | C78: 6 | D78: 3 | E78: 3 | F78: =IF(D78="","미응답",IF(D78=E78,"정답","오답")) -> 정답 | G78: 78
A79: E1008 | B79: 운영팀 | C79: 7 | D79: 1 | E79: 1 | F79: =IF(D79="","미응답",IF(D79=E79,"정답","오답")) -> 정답 | G79: 79
A80: E1008 | B80: 운영팀 | C80: 8 | D80: 4 | E80: 4 | F80: =IF(D80="","미응답",IF(D80=E80,"정답","오답")) -> 정답 | G80: 80
A81: E1008 | B81: 운영팀 | C81: 9 | D81: 2 | E81: 2 | F81: =IF(D81="","미응답",IF(D81=E81,"정답","오답")) -> 정답 | G81: 81
A82: E1008 | B82: 운영팀 | C82: 10 | D82: 1 | E82: 3 | F82: =IF(D82="","미응답",IF(D82=E82,"정답","오답")) -> 오답 | G82: 82
A83: E1009 | B83: 운영팀 | C83: 1 | D83: 3 | E83: 2 | F83: =IF(D83="","미응답",IF(D83=E83,"정답","오답")) -> 오답 | G83: 83
A84: E1009 | B84: 운영팀 | C84: 2 | D84: 2 | E84: 3 | F84: =IF(D84="","미응답",IF(D84=E84,"정답","오답")) -> 오답 | G84: 84
A85: E1009 | B85: 운영팀 | C85: 3 | D85: 4 | E85: 1 | F85: =IF(D85="","미응답",IF(D85=E85,"정답","오답")) -> 오답 | G85: 85
A86: E1009 | B86: 운영팀 | C86: 4 | D86: 4 | E86: 4 | F86: =IF(D86="","미응답",IF(D86=E86,"정답","오답")) -> 정답 | G86: 86
A87: E1009 | B87: 운영팀 | C87: 5 | D87: 4 | E87: 2 | F87: =IF(D87="","미응답",IF(D87=E87,"정답","오답")) -> 오답 | G87: 87
A88: E1009 | B88: 운영팀 | C88: 6 | D88: 3 | E88: 3 | F88: =IF(D88="","미응답",IF(D88=E88,"정답","오답")) -> 정답 | G88: 88
... A143: E1015 | B143: 운영팀 | C143: 1 | D143: 2 | E143: 2 | F143: =IF(D143="","미응답",IF(D143=E143,"정답","오답")) -> 정답 | G143: 143
A144: E1015 | B144: 운영팀 | C144: 2 | E144: 3 | F144: =IF(D144="","미응답",IF(D144=E144,"정답","오답")) -> 미응답 | G144: 144
A145: E1015 | B145: 운영팀 | C145: 3 | D145: 2 | E145: 1 | F145: =IF(D145="","미응답",IF(D145=E145,"정답","오답")) -> 오답 | G145: 145
A146: E1015 | B146: 운영팀 | C146: 4 | E146: 4 | F146: =IF(D146="","미응답",IF(D146=E146,"정답","오답")) -> 미응답 | G146: 146
A147: E1015 | B147: 운영팀 | C147: 5 | D147: 3 | E147: 2 | F147: =IF(D147="","미응답",IF(D147=E147,"정답","오답")) -> 오답 | G147: 147
...

Sheet 정리내역
A1: 교육 영상 시연용 가상 자료
A2: 원본 행 | B2: 사번 | C2: 문항 | D2: 처리 | E2: 이유
A3: 233 | B3: E1023 | C3: 1 | D3: 중복 제외 | E3: 네 칸 모두 동일한 재제출
A4: 234 | B4: E1023 | C4: 2 | D4: 중복 제외 | E4: 네 칸 모두 동일한 재제출
A5: 235 | B5: E1023 | C5: 3 | D5: 중복 제외 | E5: 네 칸 모두 동일한 재제출
A6: 236 | B6: E1023 | C6: 4 | D6: 중복 제외 | E6: 네 칸 모두 동일한 재제출
A7: 237 | B7: E1023 | C7: 5 | D7: 중복 제외 | E7: 네 칸 모두 동일한 재제출
A8: 238 | B8: E1023 | C8: 6 | D8: 중복 제외 | E8: 네 칸 모두 동일한 재제출
A9: 239 | B9: E1023 | C9: 7 | D9: 중복 제외 | E9: 네 칸 모두 동일한 재제출
A10: 240 | B10: E1023 | C10: 8 | D10: 중복 제외 | E10: 네 칸 모두 동일한 재제출
A11: 241 | B11: E1023 | C11: 9 | D11: 중복 제외 | E11: 네 칸 모두 동일한 재제출
A12: 242 | B12: E1023 | C12: 10 | D12: 중복 제외 | E12: 네 칸 모두 동일한 재제출

Sheet 문항별집계
A1: 교육 영상 시연용 가상 자료
A2: 문항 | B2: 주제 | C2: 정답 | D2: 오답 | E2: 미응답 | F2: 전체 | G2: 정답률
A3: 1 | B3: 선물 받을 수 있는 한도 | C3: =COUNTIFS(정리답안!C3:C602,A3,정리답안!F3:F602,"정답") -> 27 | D3: =COUNTIFS(정리답안!C3:C602,A3,정리답안!F3:F602,"오답") -> 31 | E3: =COUNTIFS(정리답안!C3:C602,A3,정리답안!F3:F602,"미응답") -> 2 | F3: =SUM(C3:E3) -> 60 | G3: =C3/F3 -> 0.45
A4: 2 | B4: 선물 신고 기한 | C4: =COUNTIFS(정리답안!C3:C602,A4,정리답안!F3:F602,"정답") -> 41 | D4: =COUNTIFS(정리답안!C3:C602,A4,정리답안!F3:F602,"오답") -> 16 | E4: =COUNTIFS(정리답안!C3:C602,A4,정리답안!F3:F602,"미응답") -> 3 | F4: =SUM(C4:E4) -> 60 | G4: =C4/F4 -> 0.68333333
A5: 3 | B5: 거래처 경조사 | C5: =COUNTIFS(정리답안!C3:C602,A5,정리답안!F3:F602,"정답") -> 52 | D5: =COUNTIFS(정리답안!C3:C602,A5,정리답안!F3:F602,"오답") -> 8 | E5: =COUNTIFS(정리답안!C3:C602,A5,정리답안!F3:F602,"미응답") -> 0 | F5: =SUM(C5:E5) -> 60 | G5: =C5/F5 -> 0.86666667
A6: 4 | B6: 협력사 대금 지급일 | C6: =COUNTIFS(정리답안!C3:C602,A6,정리답안!F3:F602,"정답") -> 23 | D6: =COUNTIFS(정리답안!C3:C602,A6,정리답안!F3:F602,"오답") -> 34 | E6: =COUNTIFS(정리답안!C3:C602,A6,정리답안!F3:F602,"미응답") -> 3 | F6: =SUM(C6:E6) -> 60 | G6: =C6/F6 -> 0.38333333
A7: 5 | B7: 운송장 사진 촬영·전송 | C7: =COUNTIFS(정리답안!C3:C602,A7,정리답안!F3:F602,"정답") -> 31 | D7: =COUNTIFS(정리답안!C3:C602,A7,정리답안!F3:F602,"오답") -> 29 | E7: =COUNTIFS(정리답안!C3:C602,A7,정리답안!F3:F602,"미응답") -> 0 | F7: =SUM(C7:E7) -> 60 | G7: =C7/F7 -> 0.51666667
A8: 6 | B8: 다른 고객사 운임 문의 | C8: =COUNTIFS(정리답안!C3:C602,A8,정리답안!F3:F602,"정답") -> 49 | D8: =COUNTIFS(정리답안!C3:C602,A8,정리답안!F3:F602,"오답") -> 11 | E8: =COUNTIFS(정리답안!C3:C602,A8,정리답안!F3:F602,"미응답") -> 0 | F8: =SUM(C8:E8) -> 60 | G8: =C8/F8 -> 0.81666667
A9: 7 | B9: 운행 전 점검표 작성 | C9: =COUNTIFS(정리답안!C3:C602,A9,정리답안!F3:F602,"정답") -> 55 | D9: =COUNTIFS(정리답안!C3:C602,A9,정리답안!F3:F602,"오답") -> 5 | E9: =COUNTIFS(정리답안!C3:C602,A9,정리답안!F3:F602,"미응답") -> 0 | F9: =SUM(C9:E9) -> 60 | G9: =C9/F9 -> 0.91666667
A10: 8 | B10: 위반을 알았을 때 신고처 | C10: =COUNTIFS(정리답안!C3:C602,A10,정리답안!F3:F602,"정답") -> 44 | D10: =COUNTIFS(정리답안!C3:C602,A10,정리답안!F3:F602,"오답") -> 16 | E10: =COUNTIFS(정리답안!C3:C602,A10,정리답안!F3:F602,"미응답") -> 0 | F10: =SUM(C10:E10) -> 60 | G10: =C10/F10 -> 0.73333333
A11: 9 | B11: 신고자 보호 | C11: =COUNTIFS(정리답안!C3:C602,A11,정리답안!F3:F602,"정답") -> 50 | D11: =COUNTIFS(정리답안!C3:C602,A11,정리답안!F3:F602,"오답") -> 10 | E11: =COUNTIFS(정리답안!C3:C602,A11,정리답안!F3:F602,"미응답") -> 0 | F11: =SUM(C11:E11) -> 60 | G11: =C11/F11 -> 0.83333333
A12: 10 | B12: 친척 업체와 거래 | C12: =COUNTIFS(정리답안!C3:C602,A12,정리답안!F3:F602,"정답") -> 46 | D12: =COUNTIFS(정리답안!C3:C602,A12,정리답안!F3:F602,"오답") -> 14 | E12: =COUNTIFS(정리답안!C3:C602,A12,정리답안!F3:F602,"미응답") -> 0 | F12: =SUM(C12:E12) -> 60 | G12: =C12/F12 -> 0.76666667

Sheet 부서집계
A1: 교육 영상 시연용 가상 자료
A2: 부서 | B2: 인원
A3: 운영팀 | B3: =COUNTIFS(정리답안!B3:B602,A3,정리답안!C3:C602,1) -> 24
A4: 영업팀 | B4: =COUNTIFS(정리답안!B3:B602,A4,정리답안!C3:C602,1) -> 12
A5: 협력사관리팀 | B5: =COUNTIFS(정리답안!B3:B602,A5,정리답안!C3:C602,1) -> 10
A6: 경영지원팀 | B6: =COUNTIFS(정리답안!B3:B602,A6,정리답안!C3:C602,1) -> 14
A7: 합계 | B7: =SUM(B3:B6) -> 60

Sheet 검산
A1: 교육 영상 시연용 가상 자료
A2: 항목 | B2: 계산 결과 | C2: 독립 기준값 | D2: 일치
A3: 원본 행 | B3: =COUNTA(원본행!B3:B612) -> 610 | C3: 610 | D3: =B3=C3 -> TRUE
A4: 중복 제외 | B4: =COUNTA(정리내역!B3:B12) -> 10 | C4: 10 | D4: =B4=C4 -> TRUE
A5: 정리 행 | B5: =COUNTA(정리답안!A3:A602) -> 600 | C5: 600 | D5: =B5=C5 -> TRUE
A6: 정답 | B6: =COUNTIF(정리답안!F3:F602,"정답") -> 418 | C6: 418 | D6: =B6=C6 -> TRUE
A7: 오답 | B7: =COUNTIF(정리답안!F3:F602,"오답") -> 174 | C7: 174 | D7: =B7=C7 -> TRUE
A8: 미응답 | B8: =COUNTIF(정리답안!F3:F602,"미응답") -> 8 | C8: 8 | D8: =B8=C8 -> TRUE
A9: 상태 합계 | B9: =SUM(B6:B8) -> 600 | C9: 600 | D9: =B9=C9 -> TRUE
A10: 정답률 | B10: =B6/B5 -> 0.69666667 | C10: 0.69666667 | D10: =B10=C10 -> TRUE
A11: 부서 인원 | B11: =부서집계!B7 -> 60 | C11: 60 | D11: =B11=C11 -> TRUE
