Workbook

Sheet 안내
A1: 교육 영상 시연용 가상 자료
A2: 한결물류(가명) · 평택센터 운영팀 · 2025년 모집분 / 확인일 2026-03-31
A3: 구분 | B3: 내용
A4: 자료 성격 | B4: 재현용 완성 예시. 실제 채팅 결과는 이 파일과 다를 수 있으니 원본부터 대조.
A5: 비용 범위 | B5: 직접 채용비 = 광고비 + 소개료 + 추천보상. 전체 채용 원가가 아님.
A6: 분모·관찰 | B6: 2025년 모집분 입사 확정, 2026-03-31까지 모두 90일 관찰 완료. 90일 재직은 90일째 상태.
A7: 계산 확인 | B7: 파란 칸은 계산식. 원본을 보존하고 정리자료만 분석. 월별 단가 평균 대신 합계끼리 나누기.
A8: 예산안 | B8: 분기 1,000만 → 950만 원, 연간 단순 환산 4,000만 → 3,800만 원. 확정 절감 실적 아님.
A9: 사용법 | B9: 재계산 시트 B4에 12 → 10을 넣으면 D4 120만 원. 확인 후 12로 복원. B6=0이면 D6 계산 불가.

Sheet 원본
A1: 교육 영상 시연용 가상 자료
A2: 한결물류(가명) · 평택센터 운영팀 · 2025년 모집분 / 확인일 2026-03-31
A3: 기록번호 | B3: 모집월 | C3: 채용 경로 | D3: 직무 | E3: 지원(명) | F3: 면접(명) | G3: 입사(명) | H3: 90일 재직(명) | I3: 광고비(원) | J3: 소개료(원) | K3: 추천보상(원)
A4: R001 | B4: 2025-01 | C4: 채용사이트A | D4: 입출고 관리 | E4: 10 | F4: 3 | G4: 1 | H4: 1 | I4: 580000 | J4: 0 | K4: 0
A5: R002 | B5: 2025-01 | C5: 채용사이트A | D5: 배차 관리 | E5: 7 | F5: 2 | G5: 1 | H5: 1 | I5: 390000 | J5: 0 | K5: 0
A6: R003 | B6: 2025-01 | C6: 채용사이트B | D6: 입출고 관리 | E6: 12 | F6: 2 | G6: 0 | H6: 0 | I6: 580000 | J6: 0 | K6: 0
A7: R004 | B7: 2025-01 | C7: 채용사이트B | D7: 배차 관리 | E7: 6 | F7: 1 | G7: 0 | H7: 0 | I7: 390000 | J7: 0 | K7: 0
A8: R005 | B8: 2025-01 | C8: 직원추천 | D8: 입출고 관리 | E8: 3 | F8: 2 | G8: 1 | H8: 1 | I8: 0 | J8: 0 | K8: 200000
A9: R006 | B9: 2025-01 | C9: 직원추천 | D9: 배차 관리 | E9: 1 | F9: 1 | G9: 1 | H9: 1 | I9: 0 | J9: 0 | K9: 200000
A10: R007 | B10: 2025-01 | C10: 소개업체 | D10: 입출고 관리 | E10: 1 | F10: 1 | G10: 1 | H10: 1 | I10: 0 | J10: 510000 | K10: 0
A11: R008 | B11: 2025-01 | C11: 소개업체 | D11: 배차 관리 | E11: 0 | F11: 0 | G11: 0 | H11: 0 | I11: 0 | J11: 450000 | K11: 0
A12: R009 | B12: 2025-02 | C12: 채용사이트A | D12: 입출고 관리 | E12: 8 | F12: 2 | G12: 0 | H12: 0 | I12: 500000 | J12: 0 | K12: 0
A13: R010 | B13: 2025-02 | C13: 채용사이트A | D13: 배차 관리 | E13: 5 | F13: 1 | G13: 0 | H13: 0 | J13: 0 | K13: 0
A14: R011 | B14: 2025-02 | C14: 채용사이트B | D14: 입출고 관리 | E14: 11 | F14: 2 | G14: 0 | H14: 0 | I14: 500000 | J14: 0 | K14: 0
A15: R012 | B15: 2025-02 | C15: 채용사이트B | D15: 배차 관리 | E15: 6 | F15: 1 | G15: 0 | H15: 0 | I15: 340000 | J15: 0 | K15: 0
A16: R013 | B16: 2025-02 | C16: 직원추천 | D16: 입출고 관리 | E16: 1 | F16: 1 | G16: 1 | H16: 1 | I16: 0 | J16: 0 | K16: 200000
A17: R014 | B17: 2025-02 | C17: 직원추천 | D17: 배차 관리 | E17: 0 | F17: 0 | G17: 0 | H17: 0 | I17: 0 | J17: 0 | K17: 0
A18: R015 | B18: 2025-02 | C18: 소개업체 | D18: 입출고 관리 | E18: 0 | F18: 0 | G18: 0 | H18: 0 | I18: 0 | J18: 450000 | K18: 0
A19: R016 | B19: 2025-02 | C19: 소개업체 | D19: 배차 관리 | E19: 0 | F19: 0 | G19: 0 | H19: 0 | I19: 0 | J19: 390000 | K19: 0
A20: R017 | B20: 2025-03 | C20: 채용사이트A | D20: 입출고 관리 | E20: 12 | F20: 4 | G20: 2 | H20: 1 | I20: 650000 | J20: 0 | K20: 0
A21: R018 | B21: 2025-03 | C21: 채용사이트A | D21: 배차 관리 | E21: 8 | F21: 3 | G21: 1 | H21: 1 | I21: 430000 | J21: 0 | K21: 0
A22: R019 | B22: 2025-03 | C22: 채용사이트B | D22: 입출고 관리 | E22: 16 | F22: 4 | G22: 2 | H22: 1 | I22: 650000 | J22: 0 | K22: 0
A23: R020 | B23: 2025-03 | C23: 사이트B | D23: 배차 관리 | E23: 7 | F23: 1 | G23: 0 | H23: 0 | I23: 430000 | J23: 0 | K23: 0
A24: R021 | B24: 2025-03 | C24: 직원추천 | D24: 입출고 관리 | E24: 3 | F24: 2 | G24: 1 | H24: 1 | I24: 0 | J24: 0 | K24: 200000
A25: R022 | B25: 2025-03 | C25: 직원추천 | D25: 배차 관리 | E25: 3 | F25: 2 | G25: 1 | H25: 1 | I25: 0 | J25: 0 | K25: 200000
... A100: R017 | B100: 2025-03 | C100: 채용사이트A | D100: 입출고 관리 | E100: 12 | F100: 4 | G100: 2 | H100: 1 | I100: 650000 | J100: 0 | K100: 0

Sheet 정리자료
A1: 교육 영상 시연용 가상 자료
A2: 한결물류(가명) · 평택센터 운영팀 · 2025년 모집분 / 확인일 2026-03-31
A3: 기록번호 | B3: 모집월 | C3: 채용 경로 | D3: 직무 | E3: 지원(명) | F3: 면접(명) | G3: 입사(명) | H3: 90일 재직(명) | I3: 광고비(원) | J3: 소개료(원) | K3: 추천보상(원) | L3: 직접 채용비(원)
A4: R001 | B4: 2025-01 | C4: 채용사이트A | D4: 입출고 관리 | E4: 10 | F4: 3 | G4: 1 | H4: 1 | I4: 580000 | J4: 0 | K4: 0 | L4: =SUM(I4:K4) -> 580000
A5: R002 | B5: 2025-01 | C5: 채용사이트A | D5: 배차 관리 | E5: 7 | F5: 2 | G5: 1 | H5: 1 | I5: 390000 | J5: 0 | K5: 0 | L5: =SUM(I5:K5) -> 390000
A6: R003 | B6: 2025-01 | C6: 채용사이트B | D6: 입출고 관리 | E6: 12 | F6: 2 | G6: 0 | H6: 0 | I6: 580000 | J6: 0 | K6: 0 | L6: =SUM(I6:K6) -> 580000
A7: R004 | B7: 2025-01 | C7: 채용사이트B | D7: 배차 관리 | E7: 6 | F7: 1 | G7: 0 | H7: 0 | I7: 390000 | J7: 0 | K7: 0 | L7: =SUM(I7:K7) -> 390000
A8: R005 | B8: 2025-01 | C8: 직원추천 | D8: 입출고 관리 | E8: 3 | F8: 2 | G8: 1 | H8: 1 | I8: 0 | J8: 0 | K8: 200000 | L8: =SUM(I8:K8) -> 200000
A9: R006 | B9: 2025-01 | C9: 직원추천 | D9: 배차 관리 | E9: 1 | F9: 1 | G9: 1 | H9: 1 | I9: 0 | J9: 0 | K9: 200000 | L9: =SUM(I9:K9) -> 200000
A10: R007 | B10: 2025-01 | C10: 소개업체 | D10: 입출고 관리 | E10: 1 | F10: 1 | G10: 1 | H10: 1 | I10: 0 | J10: 510000 | K10: 0 | L10: =SUM(I10:K10) -> 510000
A11: R008 | B11: 2025-01 | C11: 소개업체 | D11: 배차 관리 | E11: 0 | F11: 0 | G11: 0 | H11: 0 | I11: 0 | J11: 450000 | K11: 0 | L11: =SUM(I11:K11) -> 450000
A12: R009 | B12: 2025-02 | C12: 채용사이트A | D12: 입출고 관리 | E12: 8 | F12: 2 | G12: 0 | H12: 0 | I12: 500000 | J12: 0 | K12: 0 | L12: =SUM(I12:K12) -> 500000
A13: R010 | B13: 2025-02 | C13: 채용사이트A | D13: 배차 관리 | E13: 5 | F13: 1 | G13: 0 | H13: 0 | I13: 340000 | J13: 0 | K13: 0 | L13: =SUM(I13:K13) -> 340000
A14: R011 | B14: 2025-02 | C14: 채용사이트B | D14: 입출고 관리 | E14: 11 | F14: 2 | G14: 0 | H14: 0 | I14: 500000 | J14: 0 | K14: 0 | L14: =SUM(I14:K14) -> 500000
A15: R012 | B15: 2025-02 | C15: 채용사이트B | D15: 배차 관리 | E15: 6 | F15: 1 | G15: 0 | H15: 0 | I15: 340000 | J15: 0 | K15: 0 | L15: =SUM(I15:K15) -> 340000
... A99: R096 | B99: 2025-12 | C99: 소개업체 | D99: 배차 관리 | E99: 0 | F99: 0 | G99: 0 | H99: 0 | I99: 0 | J99: 390000 | K99: 0 | L99: =SUM(I99:K99) -> 390000

Sheet 정리기록
A1: 교육 영상 시연용 가상 자료
A2: 한결물류(가명) · 평택센터 운영팀 · 2025년 모집분 / 확인일 2026-03-31
A3: 기록번호 | B3: 바로잡은 내용 | C3: 근거
A4: R010 | B4: 빈칸 → 340,000원 | C4: 회의 메모 ③ / 장부 확인
A5: R020 | B5: 사이트B → 채용사이트B | C5: 회의 메모 ②
A6: R043 | B6: 채용 사이트 B → 채용사이트B | C6: 회의 메모 ②
A7: R017 | B7: 동일 내용 재전송 1행 제외 | C7: 회의 메모 ①

Sheet 경로비교
A1: 교육 영상 시연용 가상 자료
A2: 한결물류(가명) · 평택센터 운영팀 · 2025년 모집분 / 확인일 2026-03-31
A3: 경로 | B3: 광고비(원) | C3: 소개료(원) | D3: 추천보상(원) | E3: 직접 채용비(원) | F3: 지원(명) | G3: 면접(명) | H3: 입사(명) | I3: 90일 재직(명) | J3: 입사 1인당(원) | K3: 90일 재직 1인당(원) | L3: 90일 유지율
A4: 채용사이트A | B4: =SUMIF(정리자료!$C$4:$C$99,A4,정리자료!I$4:I$99) -> 12000000 | C4: =SUMIF(정리자료!$C$4:$C$99,A4,정리자료!J$4:J$99) -> 0 | D4: =SUMIF(정리자료!$C$4:$C$99,A4,정리자료!K$4:K$99) -> 0 | E4: =SUM(B4:D4) -> 12000000 | F4: =SUMIF(정리자료!$C$4:$C$99,A4,정리자료!E$4:E$99) -> 200 | G4: =SUMIF(정리자료!$C$4:$C$99,A4,정리자료!F$4:F$99) -> 60 | H4: =SUMIF(정리자료!$C$4:$C$99,A4,정리자료!G$4:G$99) -> 20 | I4: =SUMIF(정리자료!$C$4:$C$99,A4,정리자료!H$4:H$99) -> 14 | J4: =IF(H4=0,"계산 불가",E4/H4) -> 600000 | K4: =IF(I4=0,"계산 불가",E4/I4) -> 857142.86 | L4: =IF(H4=0,"계산 불가",I4/H4) -> 0.7
A5: 채용사이트B | B5: =SUMIF(정리자료!$C$4:$C$99,A5,정리자료!I$4:I$99) -> 12000000 | C5: =SUMIF(정리자료!$C$4:$C$99,A5,정리자료!J$4:J$99) -> 0 | D5: =SUMIF(정리자료!$C$4:$C$99,A5,정리자료!K$4:K$99) -> 0 | E5: =SUM(B5:D5) -> 12000000 | F5: =SUMIF(정리자료!$C$4:$C$99,A5,정리자료!E$4:E$99) -> 240 | G5: =SUMIF(정리자료!$C$4:$C$99,A5,정리자료!F$4:F$99) -> 48 | H5: =SUMIF(정리자료!$C$4:$C$99,A5,정리자료!G$4:G$99) -> 12 | I5: =SUMIF(정리자료!$C$4:$C$99,A5,정리자료!H$4:H$99) -> 6 | J5: =IF(H5=0,"계산 불가",E5/H5) -> 1000000 | K5: =IF(I5=0,"계산 불가",E5/I5) -> 2000000 | L5: =IF(H5=0,"계산 불가",I5/H5) -> 0.5
A6: 직원추천 | B6: =SUMIF(정리자료!$C$4:$C$99,A6,정리자료!I$4:I$99) -> 0 | C6: =SUMIF(정리자료!$C$4:$C$99,A6,정리자료!J$4:J$99) -> 0 | D6: =SUMIF(정리자료!$C$4:$C$99,A6,정리자료!K$4:K$99) -> 4000000 | E6: =SUM(B6:D6) -> 4000000 | F6: =SUMIF(정리자료!$C$4:$C$99,A6,정리자료!E$4:E$99) -> 40 | G6: =SUMIF(정리자료!$C$4:$C$99,A6,정리자료!F$4:F$99) -> 30 | H6: =SUMIF(정리자료!$C$4:$C$99,A6,정리자료!G$4:G$99) -> 20 | I6: =SUMIF(정리자료!$C$4:$C$99,A6,정리자료!H$4:H$99) -> 18 | J6: =IF(H6=0,"계산 불가",E6/H6) -> 200000 | K6: =IF(I6=0,"계산 불가",E6/I6) -> 222222.22 | L6: =IF(H6=0,"계산 불가",I6/H6) -> 0.9
A7: 소개업체 | B7: =SUMIF(정리자료!$C$4:$C$99,A7,정리자료!I$4:I$99) -> 0 | C7: =SUMIF(정리자료!$C$4:$C$99,A7,정리자료!J$4:J$99) -> 12000000 | D7: =SUMIF(정리자료!$C$4:$C$99,A7,정리자료!K$4:K$99) -> 0 | E7: =SUM(B7:D7) -> 12000000 | F7: =SUMIF(정리자료!$C$4:$C$99,A7,정리자료!E$4:E$99) -> 30 | G7: =SUMIF(정리자료!$C$4:$C$99,A7,정리자료!F$4:F$99) -> 22 | H7: =SUMIF(정리자료!$C$4:$C$99,A7,정리자료!G$4:G$99) -> 14 | I7: =SUMIF(정리자료!$C$4:$C$99,A7,정리자료!H$4:H$99) -> 12 | J7: =IF(H7=0,"계산 불가",E7/H7) -> 857142.86 | K7: =IF(I7=0,"계산 불가",E7/I7) -> 1000000 | L7: =IF(H7=0,"계산 불가",I7/H7) -> 0.85714286
A8: 전체 | B8: =SUM(B4:B7) -> 24000000 | C8: =SUM(C4:C7) -> 12000000 | D8: =SUM(D4:D7) -> 4000000 | E8: =SUM(E4:E7) -> 40000000 | F8: =SUM(F4:F7) -> 510 | G8: =SUM(G4:G7) -> 160 | H8: =SUM(H4:H7) -> 66 | I8: =SUM(I4:I7) -> 50 | J8: =E8/H8 -> 606060.61 | K8: =E8/I8 -> 800000 | L8: =I8/H8 -> 0.75757576

Sheet 직무별비교
A1: 교육 영상 시연용 가상 자료
A2: 한결물류(가명) · 평택센터 운영팀 · 2025년 모집분 / 확인일 2026-03-31
A3: 경로 | B3: 직무 | C3: 직접 채용비(원) | D3: 입사(명) | E3: 90일 재직(명) | F3: 입사 1인당(원) | G3: 90일 재직 1인당(원) | H3: 90일 유지율
A4: 채용사이트A | B4: 입출고 관리 | C4: =SUMIFS(정리자료!L$4:L$99,정리자료!C$4:C$99,A4,정리자료!D$4:D$99,B4) -> 7200000 | D4: =SUMIFS(정리자료!G$4:G$99,정리자료!C$4:C$99,A4,정리자료!D$4:D$99,B4) -> 12 | E4: =SUMIFS(정리자료!H$4:H$99,정리자료!C$4:C$99,A4,정리자료!D$4:D$99,B4) -> 8 | F4: =IF(D4=0,"계산 불가",C4/D4) -> 600000 | G4: =IF(E4=0,"계산 불가",C4/E4) -> 900000 | H4: =IF(D4=0,"계산 불가",E4/D4) -> 0.66666667
A5: 채용사이트A | B5: 배차 관리 | C5: =SUMIFS(정리자료!L$4:L$99,정리자료!C$4:C$99,A5,정리자료!D$4:D$99,B5) -> 4800000 | D5: =SUMIFS(정리자료!G$4:G$99,정리자료!C$4:C$99,A5,정리자료!D$4:D$99,B5) -> 8 | E5: =SUMIFS(정리자료!H$4:H$99,정리자료!C$4:C$99,A5,정리자료!D$4:D$99,B5) -> 6 | F5: =IF(D5=0,"계산 불가",C5/D5) -> 600000 | G5: =IF(E5=0,"계산 불가",C5/E5) -> 800000 | H5: =IF(D5=0,"계산 불가",E5/D5) -> 0.75
A6: 채용사이트B | B6: 입출고 관리 | C6: =SUMIFS(정리자료!L$4:L$99,정리자료!C$4:C$99,A6,정리자료!D$4:D$99,B6) -> 7200000 | D6: =SUMIFS(정리자료!G$4:G$99,정리자료!C$4:C$99,A6,정리자료!D$4:D$99,B6) -> 8 | E6: =SUMIFS(정리자료!H$4:H$99,정리자료!C$4:C$99,A6,정리자료!D$4:D$99,B6) -> 4 | F6: =IF(D6=0,"계산 불가",C6/D6) -> 900000 | G6: =IF(E6=0,"계산 불가",C6/E6) -> 1800000 | H6: =IF(D6=0,"계산 불가",E6/D6) -> 0.5
A7: 채용사이트B | B7: 배차 관리 | C7: =SUMIFS(정리자료!L$4:L$99,정리자료!C$4:C$99,A7,정리자료!D$4:D$99,B7) -> 4800000 | D7: =SUMIFS(정리자료!G$4:G$99,정리자료!C$4:C$99,A7,정리자료!D$4:D$99,B7) -> 4 | E7: =SUMIFS(정리자료!H$4:H$99,정리자료!C$4:C$99,A7,정리자료!D$4:D$99,B7) -> 2 | F7: =IF(D7=0,"계산 불가",C7/D7) -> 1200000 | G7: =IF(E7=0,"계산 불가",C7/E7) -> 2400000 | H7: =IF(D7=0,"계산 불가",E7/D7) -> 0.5
A8: 직원추천 | B8: 입출고 관리 | C8: =SUMIFS(정리자료!L$4:L$99,정리자료!C$4:C$99,A8,정리자료!D$4:D$99,B8) -> 2400000 | D8: =SUMIFS(정리자료!G$4:G$99,정리자료!C$4:C$99,A8,정리자료!D$4:D$99,B8) -> 12 | E8: =SUMIFS(정리자료!H$4:H$99,정리자료!C$4:C$99,A8,정리자료!D$4:D$99,B8) -> 11 | F8: =IF(D8=0,"계산 불가",C8/D8) -> 200000 | G8: =IF(E8=0,"계산 불가",C8/E8) -> 218181.82 | H8: =IF(D8=0,"계산 불가",E8/D8) -> 0.91666667
A9: 직원추천 | B9: 배차 관리 | C9: =SUMIFS(정리자료!L$4:L$99,정리자료!C$4:C$99,A9,정리자료!D$4:D$99,B9) -> 1600000 | D9: =SUMIFS(정리자료!G$4:G$99,정리자료!C$4:C$99,A9,정리자료!D$4:D$99,B9) -> 8 | E9: =SUMIFS(정리자료!H$4:H$99,정리자료!C$4:C$99,A9,정리자료!D$4:D$99,B9) -> 7 | F9: =IF(D9=0,"계산 불가",C9/D9) -> 200000 | G9: =IF(E9=0,"계산 불가",C9/E9) -> 228571.43 | H9: =IF(D9=0,"계산 불가",E9/D9) -> 0.875
A10: 소개업체 | B10: 입출고 관리 | C10: =SUMIFS(정리자료!L$4:L$99,정리자료!C$4:C$99,A10,정리자료!D$4:D$99,B10) -> 6400000 | D10: =SUMIFS(정리자료!G$4:G$99,정리자료!C$4:C$99,A10,정리자료!D$4:D$99,B10) -> 8 | E10: =SUMIFS(정리자료!H$4:H$99,정리자료!C$4:C$99,A10,정리자료!D$4:D$99,B10) -> 7 | F10: =IF(D10=0,"계산 불가",C10/D10) -> 800000 | G10: =IF(E10=0,"계산 불가",C10/E10) -> 914285.71 | H10: =IF(D10=0,"계산 불가",E10/D10) -> 0.875
A11: 소개업체 | B11: 배차 관리 | C11: =SUMIFS(정리자료!L$4:L$99,정리자료!C$4:C$99,A11,정리자료!D$4:D$99,B11) -> 5600000 | D11: =SUMIFS(정리자료!G$4:G$99,정리자료!C$4:C$99,A11,정리자료!D$4:D$99,B11) -> 6 | E11: =SUMIFS(정리자료!H$4:H$99,정리자료!C$4:C$99,A11,정리자료!D$4:D$99,B11) -> 5 | F11: =IF(D11=0,"계산 불가",C11/D11) -> 933333.33 | G11: =IF(E11=0,"계산 불가",C11/E11) -> 1120000 | H11: =IF(D11=0,"계산 불가",E11/D11) -> 0.83333333

Sheet 재계산
A1: 교육 영상 시연용 가상 자료
A2: 한결물류(가명) · 평택센터 운영팀 · 2025년 모집분 / 확인일 2026-03-31
A3: 비교 대상 | B3: 입사(명) | C3: 직접 채용비(원) | D3: 입사 1인당(원) | E3: 확인할 것
A4: 채용사이트B | B4: 12 | C4: 12000000 | D4: =IF(B4=0,"계산 불가",C4/B4) -> 1000000 | E4: B4만 10으로 바꾸면 D4=1,200,000원. 확인 뒤 12로 복원.
A5: 직원추천 | B5: 20 | C5: 4000000 | D5: =IF(B5=0,"계산 불가",C5/B5) -> 200000 | E5: 광고비만 0원. 보상비 포함하면 200,000원.
A6: 입사 0명 시험 | B6: 0 | C6: 300000 | D6: =IF(B6=0,"계산 불가",C6/B6) -> 계산 불가 | E6: 입사 0명은 공짜가 아니라 계산 불가.

Sheet 예산안
A1: 교육 영상 시연용 가상 자료
A2: 한결물류(가명) · 평택센터 운영팀 · 2025년 모집분 / 확인일 2026-03-31
A3: 경로 | B3: 종전 연간(원) | C3: 변경 연간(원) | D3: 차액(원) | E3: 종전 분기(원) | F3: 변경 분기(원) | G3: 분기 차액(원)
A4: 채용사이트A | B4: 12000000 | C4: 15000000 | D4: =C4-B4 -> 3000000 | E4: =B4/4 -> 3000000 | F4: =C4/4 -> 3750000 | G4: =F4-E4 -> 750000
A5: 채용사이트B | B5: 12000000 | C5: 6000000 | D5: =C5-B5 -> -6000000 | E5: =B5/4 -> 3000000 | F5: =C5/4 -> 1500000 | G5: =F5-E5 -> -1500000
A6: 직원추천 | B6: 4000000 | C6: 5000000 | D6: =C6-B6 -> 1000000 | E6: =B6/4 -> 1000000 | F6: =C6/4 -> 1250000 | G6: =F6-E6 -> 250000
A7: 소개업체 | B7: 12000000 | C7: 12000000 | D7: =C7-B7 -> 0 | E7: =B7/4 -> 3000000 | F7: =C7/4 -> 3000000 | G7: =F7-E7 -> 0
A8: 합계 | B8: =SUM(B4:B7) -> 40000000 | C8: =SUM(C4:C7) -> 38000000 | D8: =C8-B8 -> -2000000 | E8: =SUM(E4:E7) -> 10000000 | F8: =SUM(F4:F7) -> 9500000 | G8: =F8-E8 -> -500000

Sheet 검수
A1: 교육 영상 시연용 가상 자료
A2: 한결물류(가명) · 평택센터 운영팀 · 2025년 모집분 / 확인일 2026-03-31
A3: 항목 | B3: 확인 기준
A4: 정리 결과 | B4: 원본 97행 → 정리 96행. 경로 4개·직무 2개·12개월. 정리기록 4건
A5: 수량 | B5: 지원 510명 / 면접 160명 / 입사 66명 / 90일 재직 50명
A6: 비용 | B6: 광고비 24,000,000원 + 소개료 12,000,000원 + 추천보상 4,000,000원 = 40,000,000원
A7: 나누는 수 | B7: 경로별 합계끼리 나눔. 입사 0명·90일 재직 0명은 계산 불가. 월별 비율 평균 금지.
A8: 실행 조건 | B8: 분기 950만 원 상한은 제안. 입사 목표 16명·직무별 8명 이상, 90일 재직 목표 13명. 예측 아님.
A9: 관찰 시점 | B9: 3개월 시험의 마지막 입사자가 90일을 채운 뒤 최종 평가. 중간에는 미도달과 퇴사를 구분.
